
BEGIN:VCALENDAR
VERSION:2.0
PRODID:-//wp-events-plugin.com//6.6.3//EN
TZID:Europe/Berlin
X-WR-TIMEZONE:Europe/Berlin
BEGIN:VEVENT
UID:0-279@veranstaltungen.muenchen.de
DTSTART;TZID=Europe/Berlin:20250709T100000
DTEND;TZID=Europe/Berlin:20250709T160000
DTSTAMP:20250708T080242Z
URL:https://veranstaltungen.muenchen.de/raw/veranstaltungen/inklusive-jobm
 esse-2025-besucher/
SUMMARY:Inklusive Jobmesse 2025 Besucher
DESCRIPTION:Seien Sie dabei – die Inklusive Jobmesse 2025 in München erw
 artet Sie!\n\n \n\n➨ Die Seite für Besucher der Inklusiven Jobmesse gi
 bt es auch hier in einfacher Sprache\n\n&nbsp\;\n\nSuchen Sie eine Arbeits
 stelle\, bei der Ihre Fähigkeiten geschätzt werden und Inklusion wirklic
 h gelebt wird? Die Inklusive Jobmesse 2025 bietet Ihnen die Möglichkeit\,
  Arbeitgeber*innen kennenzulernen\, die sich aktiv für eine vielfältige 
 und barrierefreie Arbeitswelt einsetzen.\n\n&nbsp\;\n\nDie Jobmesse findet
  am Mittwoch\, den 9. Juli 2025\, im BiZ München statt. Sie richtet sich 
 an Menschen mit Behinderung\, die auf der Suche nach (neuen) beruflichen P
 erspektiven sind. \n\n&nbsp\;\n\nNutzen Sie die Gelegenheit\, potenzielle 
 Arbeitgeber*innen aus dem Tagespendelbereich Münchens persönlich kennenz
 ulernen\, wertvolle Kontakte zu knüpfen und mehr über inklusive Beschäf
 tigungsmöglichkeiten zu erfahren.\n\n&nbsp\;\n\nWarum Sie dabei sein soll
 ten:\n\n 	Treffen Sie auf rund 50 Firmen des regulären Arbeitsmarktes\, d
 ie sich für Inklusion engagieren und offen für die Beschäftigung von Me
 nschen mit Behinderung sind.\n 	Informieren Sie sich über offene Stellen 
 und Einstiegsmöglichkeiten in verschiedenen Branchen.\n 	Nutzen Sie das R
 ahmenprogramm\, um professionelle Bewerbungsfotos zu erhalten\, ein digita
 les Bewerbertraining zu durchlaufen oder spannende Vorträge zu hören.\n 
 	Tauschen Sie sich in einer barrierefreien Umgebung mit Fachleuten\, Arbei
 tgeber*innen und anderen Messebesucher*innen aus.\n\n&nbsp\;\n\n&nbsp\;\n\
 nDie Teilnahme ist kostenfrei und für alle offen. Eine Anmeldung ist nich
 t verpflichtend\, aber wir bitten Sie um eine Voranmeldung\, falls Sie ein
 en zusätzlichen Unterstützungsbedarf haben (z. B. Gebärdensprachdolmets
 chen\, Induktionsanlage\, Übersetzungen in Leichte Sprache). Damit helfen
  Sie uns\, die Veranstaltung bestmöglich auf Ihre Bedürfnisse abzustimme
 n.\n\n&nbsp\;\n\nAlles auf einen Blick:\n\n&nbsp\;\n\n 	Den Messe-Flyer mi
 t der Programmübersicht und dem Standplan aller Aussteller finden Sie hie
 r als PDF zum Download: https://veranstaltungen.muenchen.de/raw/wp-conten
 t/uploads/sites/13/Messeflyer-mit-Standplan_fuer-Besucher_Inklusive_Jobmes
 se_Webversion.pdf\n\n 	Die Veranstaltung ist für Rollstuhlfahrer*innen zu
 gänglich.\n 	Ein Ruheraum wird eingerichtet.\n 	Gebärdensprachdolmetsche
 n\, Induktionsanlage\, Schriftdolmetschen und Übersetzung in Leichte Spra
 che stehen nach Bedarf zur Verfügung.\n\n&nbsp\;\n\n\n\n&nbsp\;\nProgramm
 übersicht\nWo: Erdgeschoss im BiZ Saal\n\n\n 	11:00 – 11:40 Uhr: Mein A
 rbeitsleben mit Handicap\nHolger Kiesel Beauftragter der Bayerischen Staat
 sregierung für die Belange von Menschen mit Behinderung\n\n\n 	11:45 – 
 12:25 Uhr: Leistungsübersicht: Wo bekomme ich welche Unterstützung?\nMar
 io Wierick Leitung Fachstelle für berufliche Wiedereingliederung\n\n\n 	1
 2:30 – 13:10 Uhr: Wie bewerbe ich mich richtig?\nJohanna Hartmann bfz gG
 mbH München BewerbungsZentrum\n\n\n 	13:20 – 14:10 Uhr: Podiumsdiskussi
 on mit Erfahrungsberichten\nBest Practice Beispiele aus der Arbeitswelt\n\
 n\n 	14:20 – 14:55 Uhr: Unterstützung ab Beginn des Arbeitsverhältniss
 es\nIFD/InA\n\n\n 	15:00 – 15:40 Uhr: Methoden und Techniken zur berufli
 chen Orientierung Berufsberatung im Erwerbsleben\nAgentur für Arbeit\n\n
  \nKostenlose Aktionen\nWo: 1. Obergeschoss im Raum Garching\n\n\n 	11:00
  – 16:00 Uhr: Kostenfreies Fotoshooting für ein aktuelles Bewerbungsfot
 o\nOhne Anmeldung – einfach vorbei kommen\n 	11:00 – 16:00 Uhr: Digita
 les Bewerbertraining\nDurchgeführt durch Café CUP: Dein Weg in die digit
 ale Welt\nKurzer Bewerbungsunterlagen-Check auf Wunsch\nOhne Anmeldung –
  einfach vorbei kommen\n\n
LOCATION:BiZ\, Kapuzinerstraße 30\, München\, 80337\, Deutschland
GEO:48.125227;11.560698
X-APPLE-STRUCTURED-LOCATION;VALUE=URI;X-ADDRESS=Kapuzinerstraße 30\, Münc
 hen\, 80337\, Deutschland;X-APPLE-RADIUS=100;X-TITLE=BiZ:geo:48.125227,11.
 560698
END:VEVENT
BEGIN:VTIMEZONE
TZID:Europe/Berlin
X-LIC-LOCATION:Europe/Berlin
BEGIN:DAYLIGHT
DTSTART:20250330T030000
TZOFFSETFROM:+0100
TZOFFSETTO:+0200
TZNAME:CEST
END:DAYLIGHT
END:VTIMEZONE
END:VCALENDAR