
BEGIN:VCALENDAR
VERSION:2.0
PRODID:-//wp-events-plugin.com//6.6.3//EN
TZID:Europe/Berlin
X-WR-TIMEZONE:Europe/Berlin
BEGIN:VEVENT
UID:13-32@veranstaltungen.muenchen.de
DTSTART;TZID=Europe/Berlin:20190709T140000
DTEND;TZID=Europe/Berlin:20190709T170000
DTSTAMP:20190612T071508Z
URL:https://veranstaltungen.muenchen.de/raw/veranstaltungen/informationsve
 ranstaltung-hitze-kontrolliert-klimaschutz-kapiert/
SUMMARY:Informationsveranstaltung "Hitze kontrolliert. Klimaschutz kapiert.
 "
DESCRIPTION: Bei dieser Veranstaltung der Informationsinitiative „Münchn
 er Unternehmen verbessern ihre Energieeffizienz“ geht es um Risikoschutz
  für Unternehmen im Hinblick auf den Klimawandel.\n\n&nbsp\;\n\nWir zeige
 n Ihnen Maßnahmen\, mit denen Sie Ihr Unternehmen vorbereiten können und
  präsentieren Ihnen regionale Naturschutzmaßnahmen\, mit deren Hilfe Sie
  etwas gegen den Klimawandel tun können.\n\n&nbsp\;\n\nDie Schwerpunkte l
 iegen bei Wassergefahren\, sommerlichem Wärmeschutz für Bürogebäude un
 d das Beispiel Moorvernässung als eine wirkungsvolle Maßnahme zum Klimas
 chutz.\n\nZur Themenseite\n\n&nbsp\;\n\nNeu: Wir bitten um Anmeldung über
  das Formular unten\, vielen Dank!\n\n&nbsp\;\n\nHier der Programmablauf f
 ür 9. Juli 2019.\n \nDie Veranstaltung findet statt in Zusammenarbeit mi
 t\n
CATEGORIES:sichtbar auf Startseite
LOCATION:IHK - Akademie (Akademiesaal)\, Orleansstraße 10-12\, München\, 
 81669\, Deutschland
GEO:48.1250731;11.5992745
X-APPLE-STRUCTURED-LOCATION;VALUE=URI;X-ADDRESS=Orleansstraße 10-12\, Mün
 chen\, 81669\, Deutschland;X-APPLE-RADIUS=100;X-TITLE=IHK - Akademie (Akad
 emiesaal):geo:48.1250731,11.5992745
END:VEVENT
BEGIN:VTIMEZONE
TZID:Europe/Berlin
X-LIC-LOCATION:Europe/Berlin
BEGIN:DAYLIGHT
DTSTART:20190331T030000
TZOFFSETFROM:+0100
TZOFFSETTO:+0200
TZNAME:CEST
END:DAYLIGHT
END:VTIMEZONE
END:VCALENDAR