
BEGIN:VCALENDAR
VERSION:2.0
PRODID:-//wp-events-plugin.com//6.6.3//EN
TZID:Europe/Berlin
X-WR-TIMEZONE:Europe/Berlin
BEGIN:VEVENT
UID:0-211@veranstaltungen.muenchen.de
DTSTART;TZID=Europe/Berlin:20240326T090000
DTEND;TZID=Europe/Berlin:20240326T110000
DTSTAMP:20240325T074455Z
URL:https://veranstaltungen.muenchen.de/raw/veranstaltungen/how-to-start-a
 -business-in-english-7/
SUMMARY:How to start a business (in English)
DESCRIPTION:Attend our online information session for a brief overview of a
 ll key start-up topics.\n\n&nbsp\;\n\nTopics include an overview of startu
 p formalities\, choice of legal form and tax overview\, private and operat
 ional security\, subsidies and financial aids and coaching-programs.\n\n&n
 bsp\;\n\nThis session is free of charge. Please register yourself at the v
 ery bottom of this page.\n\n&nbsp\;\n\nYou will receive an access link for
  this online event via separate e-mail (one day before the event takes pla
 ce).\n\n&nbsp\;\n\nMunich's Business Startup Office\nLandeshauptstadt Mün
 chen - Referat für Arbeit und Wirtschaft\n\n\nPhone: 089 233-21 759  tal
 k time from 13:00 (Monday to Thursday)\nE-Mail: start@muenchen.de  |  st
 artup-in-munich.de\n\n&nbsp\;\n
CATEGORIES:sichtbar auf Startseite
END:VEVENT
BEGIN:VTIMEZONE
TZID:Europe/Berlin
X-LIC-LOCATION:Europe/Berlin
BEGIN:STANDARD
DTSTART:20231029T020000
TZOFFSETFROM:+0200
TZOFFSETTO:+0100
TZNAME:CET
END:STANDARD
END:VTIMEZONE
END:VCALENDAR