
BEGIN:VCALENDAR
VERSION:2.0
PRODID:-//wp-events-plugin.com//6.6.3//EN
TZID:Europe/Berlin
X-WR-TIMEZONE:Europe/Berlin
BEGIN:VEVENT
UID:0-278@veranstaltungen.muenchen.de
DTSTART;TZID=Europe/Berlin:20250226T090000
DTEND;TZID=Europe/Berlin:20250226T150000
DTSTAMP:20250224T155351Z
URL:https://veranstaltungen.muenchen.de/raw/veranstaltungen/firstminit-aus
 bildungsmesse-und-pflegemesse-2025/
SUMMARY:„FirstMinit Ausbildungsmesse“ und „Pflegemesse“ 2025
DESCRIPTION:Herzlich willkommen zur Anmelde-Seite der branchenübergreifend
 en First Minit Ausbildungsmesse &amp\; Pflege Ausbildungsmesse am 26.Febru
 ar 2025 in München.\n\n&nbsp\;\nWann?\nMittwoch\, 26.Februar 2025\n9.00 
 – 15:00 Uhr\n&nbsp\;\n\nWo?\nGymnasium München Riem \nPaul-Wassermann-S
 traße 18 \n81829 München\n\n\n\n\n\nWas erwartet Sie - und was dürfen S
 ie von uns erwarten?\n&nbsp\;\nDie zusammengelegte\, kostenfreie Job- und 
 Ausbildungsmesse bietet Ihren Schüler*innen\n(vorrangig den Abgangsklasse
 n) kurz vor dem Zwischenzeugnis die Möglichkeit\, viele\nverschiedene Aus
 bildungsberufe und Karrierewege kennenzulernen und sich bei den\nausstelle
 nden Unternehmen auf ihren zukünftigen Ausbildungs- oder Praktikumsplatz 
 direkt\nvor Ort zu bewerben. Außerdem werden Beratungsteams der Agentur f
 ür Arbeit München und\nder Kammern vor Ort sein\, welche viele weitere F
 irmenkontakte sowie freie Lehr- und\nPraktikumsstellen mitbringen\, damit 
 auch außerhalb des bestehenden Angebots beraten\nwerden kann.\n&nbsp\;\nF
 irstMinit Ausbildungsmesse:\n\nAussteller aus verschiedenen Branchen biete
 n Einblicke in ihre Arbeit und geben live vor Ort die Möglichkeit\, sich 
 zu informieren oder direkt auf eine Ausbildungsstelle zu bewerben (also ge
 rne Lebenslauf und Bewerbungsmappe mitbringen!)\n\n&nbsp\;\n\nPflege-Ausbi
 ldungsmesse:\n\n\nAusteller aus den verschiedensten Bereichen der Pflege b
 ieten einen Austausch zu vielfältigen Karrierewegen in der Pflege. Neben 
 umfassenden Informationen gibt es auch die Möglichkeit\, sich vor Ort dir
 ekt auf einen der Ausbildungsplätze zu bewerben oder bei Interesse ein Pr
 aktikum zu ergattern.\n\n&nbsp\;\n\nBitte beachten Sie\, dass die Teilnahm
 e nur mit Anmeldung möglich ist\, allerdings können sie - zum Beispiel a
 ls Lehrkraft - gerne unter Ihrem Namen eine ganze Schulklasse anmelden. W
 ählen Sie dazu bitte einfach unten die entsprechende Menge der von Ihnen 
 benötigten Tickets aus.\n\n&nbsp\;\nVeranstaltende:\n&nbsp\;\nDas Referat
  für Arbeit und Wirtschaft in Kooperation mit dem Gymnasium München Riem
 \, dem Netzwerk SCHULEWIRTSCHAFT München\, der Handwerkskammer für Münc
 hen/Obb.\, der Industrie und Handels-kammer für München/Obb.\, der Agent
 ur für Arbeit und dem Jobcenter München\, dem JiBB – Junge Men-schen i
 n Bildung und Beruf\, dem Staatlichen Schulamt in der Landeshauptstadt Mü
 nchen\, der Münchner Volkshochschule\, Migrationsbeirat München sowie de
 r Landeshauptstadt München (Referat für Bildung und Sport\, Sozialrefera
 t\, Gesundheitsreferat).\n&nbsp\;\nDiese Einladung steht unter dem Vorbeha
 lt\, dass die Annahme mit den für Sie geltenden internen Compliance-Vorsc
 hriften in Einklang steht\, und wir bitten Sie\, dies zu prüfen.
LOCATION:Gymnasium München Riem\, Paul-Wassermann-Straße 18\, München\, 
 Bayern\, 81829\, Deutschland
GEO:48.136129;11.682424
X-APPLE-STRUCTURED-LOCATION;VALUE=URI;X-ADDRESS=Paul-Wassermann-Straße 18\
 , München\, Bayern\, 81829\, Deutschland;X-APPLE-RADIUS=100;X-TITLE=Gymna
 sium München Riem:geo:48.136129,11.682424
END:VEVENT
BEGIN:VTIMEZONE
TZID:Europe/Berlin
X-LIC-LOCATION:Europe/Berlin
BEGIN:STANDARD
DTSTART:20241027T020000
TZOFFSETFROM:+0200
TZOFFSETTO:+0100
TZNAME:CET
END:STANDARD
END:VTIMEZONE
END:VCALENDAR