
BEGIN:VCALENDAR
VERSION:2.0
PRODID:-//wp-events-plugin.com//6.6.3//EN
TZID:Europe/Berlin
X-WR-TIMEZONE:Europe/Berlin
BEGIN:VEVENT
UID:0-352@veranstaltungen.muenchen.de
DTSTART;TZID=Europe/Berlin:20260211T090000
DTEND;TZID=Europe/Berlin:20260211T143000
DTSTAMP:20260202T110515Z
URL:https://veranstaltungen.muenchen.de/raw/veranstaltungen/firstminit-202
 6/
SUMMARY:FirstMinit 2026
DESCRIPTION:FirstMinit Ausbildungsmesse und Pflegeausbildungsmesse 2026\n&n
 bsp\;\n\nHerzlich willkommen zur Anmelde-Seite der branchenübergreifenden
  First Minit Ausbildungsmesse &amp\; Pflegeausbildungsmesse am 11.Februar 
 2026 in München.\n\n&nbsp\;\n\nWann?\n\nMittwoch\, 11.Februar 2026\n9.00 
 – 14:30 Uhr\n\n&nbsp\;\n\nWo?\n\nan der \n\nRobert-Bosch-Fachoberschule 
 Wirtschaft /\nStädtische Nelson Mandela Berufsoberschule Wirtschaft /\nSt
 ädtisches Berufsschulzentrum Alice Bendix\n\n\nSchleißheimer Str. 510\, 
 80933 München \n\n&nbsp\;\n\nWas erwartet Sie – und was dürfen Sie von
  uns erwarten?\n\nDie zusammengelegte\, kostenfreie Job- und Ausbildungsme
 sse bietet Ihren Schüler*innen\n(vorrangig den Abgangsklassen) kurz vor d
 em Zwischenzeugnis die Möglichkeit\, viele\nverschiedene Ausbildungsberuf
 e und Karrierewege kennenzulernen und sich bei den\nausstellenden Unterneh
 men auf ihren zukünftigen Ausbildungs- oder Praktikumsplatz direkt\nvor v
 orzustellen. Außerdem werden Beratungsteams der Agentur für Arbeit Münc
 hen und\nder Kammern vor Ort sein\, welche viele weitere Firmenkontakte so
 wie freie Lehr- und\nPraktikumsstellen mitbringen\, damit auch außerhalb 
 des bestehenden Angebots beraten\nwerden kann.\n\n&nbsp\;\n\nFirstMinit Au
 sbildungsmesse:\nAussteller aus verschiedenen Branchen bieten Einblicke in
  ihre Arbeit und geben live vor Ort die Möglichkeit\, sich direkt für Au
 sbildungs- oder Studienstelle informieren.\n\n&nbsp\;\n\nPflege-Ausbildung
 smesse:\nAusteller aus den verschiedensten Bereichen der Pflege bieten ein
 en Austausch zu vielfältigen Karrierewegen in der Pflege.\n\n&nbsp\;\n\nB
 itte beachten Sie\, dass die Teilnahme nur mit Anmeldung möglich ist\, al
 lerdings können sie – zum Beispiel als Lehrkraft – gerne unter Ihrem 
 Namen eine ganze Schulklasse anmelden. Wählen Sie dazu bitte einfach unte
 n die entsprechende Menge der von Ihnen benötigten Tickets aus.\n\n&nbsp\
 ;\n\nVeranstaltende:\n\nDas MBQ (Münchner Beschäftigungs- und Qualifizie
 rungsprogramm) veranstaltet die FirstMinit in Kooperation mit der Robert-B
 osch-Fachoberschule Wirtschaft\, der Städtischen Nelson Mandela Berufsobe
 rschule Wirtschaft und dem Städtischen Berufsschulzentrum Alice Bendix\, 
 dem Netzwerk SCHULEWIRTSCHAFT München\, der Handwerkskammer für München
 /Obb.\, der Industrie und Handelskammer für München/Obb.\, der Agentur f
 ür Arbeit und dem Jobcenter München\, dem JiBB – Junge Menschen in Bil
 dung und Beruf\, dem Staatlichen Schulamt in der Landeshauptstadt München
 \, der Münchner Volkshochschule\, dem Migrationsbeirat München sowie der
  Landeshauptstadt München (Referat für Bildung und Sport\, Sozialreferat
 \, Gesundheitsreferat).
END:VEVENT
BEGIN:VTIMEZONE
TZID:Europe/Berlin
X-LIC-LOCATION:Europe/Berlin
BEGIN:STANDARD
DTSTART:20251026T020000
TZOFFSETFROM:+0200
TZOFFSETTO:+0100
TZNAME:CET
END:STANDARD
END:VTIMEZONE
END:VCALENDAR