
BEGIN:VCALENDAR
VERSION:2.0
PRODID:-//wp-events-plugin.com//6.6.3//EN
TZID:Europe/Berlin
X-WR-TIMEZONE:Europe/Berlin
BEGIN:VEVENT
UID:0-220@veranstaltungen.muenchen.de
DTSTART;TZID=Europe/Berlin:20240516T093000
DTEND;TZID=Europe/Berlin:20240516T140000
DTSTAMP:20240515T075153Z
URL:https://veranstaltungen.muenchen.de/raw/veranstaltungen/city-demo-day-
 1/
SUMMARY:#1 City Demo Day I Start-up Fokus: Ernährung &amp\; Energie
DESCRIPTION:\n\n&nbsp\;\nEin lebendiger Treffpunkt für Start-ups und die S
 tadtverwaltung\n&nbsp\;\nBei dieser Netzwerkveranstaltung werden nicht all
 ein die Stadtverwaltung Münchens\, sondern auch benachbarte Kommunen und 
 die pulsierende Gründer*innenszene der Stadt zusammenkommen. Neben dem An
 gebot einer Austausch- und wertvollen Informationsplattform zum Thema inno
 vative Beschaffung und Vergabe werden Gelegenheiten für gegenseitige Unte
 rstützung und Zusammenarbeit entstehen. Ein Tag voller Inspiration und M
 öglichkeiten\, der die Brücke zwischen innovativen Ideen und der städti
 schen Verwaltung schlägt.\n&nbsp\;\n\nWann?\n16. Mai\, 9:30 - 14:00 Uhr\n
 Wo?\nMunich Urban Colab\, Freddie-Mercury-Straße 5\, München (Erdgeschos
 s: Auditorium und Foyer)\n&nbsp\;\n\n&nbsp\;\n\nAgenda:\n\n\n\n\nab 9:30 U
 hr\n&nbsp\;\n\nCheck-in\nmit Kaffee\, Tee und Croissants\n&nbsp\;\n\n\n\n\
 n\n\n\n\n\n\n\n\n\n09:45 Uhr\n&nbsp\;\n\n&nbsp\;\n\n\nGrußworte\nClaudia 
 Frey\, CEO Munich Urban Colab\n&nbsp\;\nKurt Kapp\, Stellvertreter des Ref
 erenten\, Leiter Wirtschaftsförderung\, Referat für Arbeit und Wirtschaf
 t der Landeshauptstadt München\n&nbsp\;\n\n&nbsp\;\n\n\n\n\n10:00 Uhr\n&n
 bsp\;\n\n\nImpuls\nUrban Catalyst: Die innovative Allianz zwischen Stadt u
 nd Start-up \nFabian Kors\, IT-Referat &amp\; Semir Babajić\, CEO TreeSen
 se\n\n&nbsp\;\n\n\n\n10:15 Uhr\n\n\n\nPitch-Session: Bühne frei für Star
 t-ups\n#food: OLES Kaffee\, SymBiotic Food\, HospiChef\n#energy: Proxima F
 usion\, Otter Energy Trading\, econvio\n&nbsp\;\n\n\n\n11:00 Uhr\n&nbsp\;\
 n\nPause\n&nbsp\;\n\n\n\n\n11:15 Uhr\n&nbsp\;\n\n\nTalk\nBest Practice MVG
 -Innovator\nMarina Eicke\, Innovationsmanagerin / Leitung MVG-Innovator &a
 mp\; Manuela Müller\, Leitung Einkauf IT und Dienstleistungen SWM\nSimone
  Fasse\, Moderation\n&nbsp\;\n\n\n\n11:45 Uhr\n\n\nWorkshops zur innovatio
 nsfreundlichen Beschaffung vom Kompetenzzentrum für innovative Beschaffun
 g des BMWK\n\n 	\nfür Stadtverwaltung: Wie funktioniert Beschaffung und V
 ergabe für städtische Mitarbeitende? Welche Möglichkeiten und Tools gib
 t es innovationsfreundlich auszuschreiben?\n\n\n\n\n\n\n\n 	\nfür Start-u
 ps und Gründungszentren: Der Public Sector als Kunde - Basics für den Ma
 rktzugang\n\n\n&nbsp\;\n\n\n\n12:45 Uhr\n\n&nbsp\;\n13:00 Uhr\n&nbsp\;\n\n
 Wrap-up \n\n&nbsp\;\nMittagessen &amp\; Netzwerken\n&nbsp\;\n\n\n\n\n14:0
 0 Uhr\n\n\n\nEnde\n\n\n\n\n\n\n\n\n&nbsp\;\nBei Fragen und Input zum City 
 Demo Day wenden Sie sich bitte an colab@muenchen.de. Ansprechpersonen der 
 Landeshauptstadt München sind: Anna Fischer und Tamy Saurer.\nBitte beach
 ten Sie\, dass für den Besuch dieser Veranstaltung eine Anmeldung nötig 
 ist. Bei Rückfragen zum Anmeldeverfahren wenden Sie sich bitte an citydem
 oday@studio-stadt-region.de\n&nbsp\;\n\n&nbsp\;\nHinweis: Auf der Veransta
 ltung werden Fotoaufnahmen zur Publikation in Print- und Onlinemedien erst
 ellt. Mit der Anmeldung zu dieser Veranstaltung und Eingabe Ihrer Daten er
 klären Sie sich mit der späteren Verwendung dieser Bildnisse für Market
 ingzwecke (Kanäle v. munich business\, Munich Urban Colab und Munich Star
 tup: Webseite\, Newsletter\, LinkedIn\, Print-Magazin) einverstanden.\nDer
  Ort ist rollstuhlgerecht erreichbar\, eine barrierefreie Toilette ist vor
 handen.\n&nbsp\;\n\n&nbsp\;
LOCATION:Munich Urban Colab\, Freddie-Mercury-Straße 5\, München\, 80797\
 , Deutschland
GEO:48.156715;11.551772
X-APPLE-STRUCTURED-LOCATION;VALUE=URI;X-ADDRESS=Freddie-Mercury-Straße 5\,
  München\, 80797\, Deutschland;X-APPLE-RADIUS=100;X-TITLE=Munich Urban Co
 lab:geo:48.156715,11.551772
END:VEVENT
BEGIN:VTIMEZONE
TZID:Europe/Berlin
X-LIC-LOCATION:Europe/Berlin
BEGIN:DAYLIGHT
DTSTART:20240331T030000
TZOFFSETFROM:+0100
TZOFFSETTO:+0200
TZNAME:CEST
END:DAYLIGHT
END:VTIMEZONE
END:VCALENDAR