
BEGIN:VCALENDAR
VERSION:2.0
PRODID:-//wp-events-plugin.com//6.6.3//EN
TZID:Europe/Berlin
X-WR-TIMEZONE:Europe/Berlin
BEGIN:VEVENT
UID:0-290@veranstaltungen.muenchen.de
DTSTART;TZID=Europe/Berlin:20250325T160000
DTEND;TZID=Europe/Berlin:20250325T190000
DTSTAMP:20250325T082556Z
URL:https://veranstaltungen.muenchen.de/raw/veranstaltungen/auftaktveranst
 altung-zero-waste-innovation-hub/
SUMMARY:Auftaktveranstaltung Zero Waste Innovation Hub | Meet the City
DESCRIPTION:Das Referat für Arbeit und Wirtschaft lädt Sie herzlich zur A
 uftaktveranstaltung des neuen Zero Waste Innovation Hubs ein!\n\n&nbsp\;\n
 \nDer Zero Waste Innovation Hub ist ein neues Angebot des Referats für Ar
 beit und Wirtschaft der Landeshauptstadt München für Münchner Unternehm
 en und Startups. Ziel des im Munich Urban Colab ansässigen und von CIRCUL
 AR REPUBLIC\, Circular Munich und sustainable AG durchgeführten Projekts 
 ist es\, innovative Ansätze zu Zero Waste\, Steigerung der Ressourceneffi
 zienz und Kreislaufwirtschaft in der Münchner Wirtschaft zu fördern\, zu
  erproben und München auf dem Weg zur Klimaneutralität und Zero Waste Ci
 ty zu unterstützen. Lassen Sie sich vom neuen Angebot der Wirtschaftsför
 derung überzeugen und lernen Sie die verschiedenen Inhalte kennen.\n\n\n
  \n\n Wann? Dienstag\, 25. März 2025\, Beginn 16:00 Uhr\n\n Wo? Munich U
 rban Colab\n\n \nAgenda:\n16 Uhr Begrüßung durch Claudia Frey\, Geschä
 ftsführerin Munich Urban Colab\, Jacqueline Charlier\, Kommunalreferentin
  der Landeshauptstadt München und Dr. Christian Scharpf\, Referent für A
 rbeit und Wirtschaft der Landeshauptstadt München\nKeynote “Die bunte N
 ull: Mit Zero Waste zu mehr Resilienz und Nachhaltigkeit” von  Prof. Dr
 . Jan-Diederich Lüken\, Studiengangsleiter Circular Economy\, Technische 
 Hochschule Rosenheim\nVorstellung der Ziele und Inhalte des Zero Waste Inn
 ovation Hubs\nImpulse &amp\; Panel-Diskussion mit Unternehmen und Startups
 \n\nab 18 Uhr Networking &amp\; Ausklang\n&nbsp\;\n\nDie Auftaktveranstalt
 ung findet im Rahmen der Veranstaltungsreihe „Meet the City“ statt\, d
 ie von der Landeshauptstadt München ins Leben gerufen wurde und regelmä
 ßig Einblicke in innovative städtische Projekte gibt. Der Zero Waste Inn
 ovation Hub ist eine Maßnahme des Zero Waste Konzepts.\n\n&nbsp\;\n\nEine
 n Überblick zu unseren weiteren Angeboten im Bereich Nachhaltiges Wirtsch
 aften finden Sie hier.\n\n&nbsp\;\nBitte beachten Sie\, dass für den Besu
 ch dieser Veranstaltung eine Anmeldung nötig ist. Bei Rückfragen zum Anm
 eldeverfahren wenden Sie sich bitte an nachhaltigkeit.raw@muenchen.de\n\n&
 nbsp\;\nInformation zu Filmaufnahmen / Fotoaufnahmen: Die Landeshauptstadt
  München beabsichtigt\, im Rahmen der Veranstaltung zum Zweck der städti
 schen Presse- und Öffentlichkeitsarbeit Film- und Fotoaufnahmen zu erstel
 len. Diese können insbesondere in den Kanälen von munich business (Webse
 ite\, Newsletter\, LinkedIn\, Print-Magazin\, städtisches Intranet) publi
 ziert werden als auch ggf. in gedruckten Werbematerialien und/oder auf st
 ädtischen Veranstaltungen verwendet werden. Auf den Aufnahmen sind gegebe
 nenfalls auch die Gäste der Veranstaltung erkennbar. Bitte informieren Si
 e die Fotografin oder den Fotografen vor Ort\, wenn Sie nicht möchten\, d
 ass Bilder\, auf denen Sie zu sehen sind\, veröffentlicht werden.\n&nbsp\
 ;\nBarrierefreiheit\nDas Munich Urban Colab und der Veranstaltungsraum sin
 d für mobilitätseingeschränkte oder rollstuhlfahrende Menschen zugängl
 ich. Barrierefreie Toiletten sind im Erdgeschoss und im 3. Obergeschoss vo
 rhanden. Es steht ein rollstuhlgerechter Aufzug zur Verfügung. Auf Anfrag
 e gibt es Behindertenparkplätze in der Tiefgarage.\nWenn Sie weitere Unte
 rstützung brauchen\, schreiben Sie uns gerne eine E-Mail an welcome@munic
 h-urban-colab.com
CATEGORIES:sichtbar auf Startseite
LOCATION:Munich Urban Colab\, Freddie-Mercury-Straße 5\, München\, Bayern
 \, 80797\, Deutschland
GEO:48.156894;11.551707
X-APPLE-STRUCTURED-LOCATION;VALUE=URI;X-ADDRESS=Freddie-Mercury-Straße 5\,
  München\, Bayern\, 80797\, Deutschland;X-APPLE-RADIUS=100;X-TITLE=Munich
  Urban Colab:geo:48.156894,11.551707
END:VEVENT
BEGIN:VTIMEZONE
TZID:Europe/Berlin
X-LIC-LOCATION:Europe/Berlin
BEGIN:STANDARD
DTSTART:20241027T020000
TZOFFSETFROM:+0200
TZOFFSETTO:+0100
TZNAME:CET
END:STANDARD
END:VTIMEZONE
END:VCALENDAR