
BEGIN:VCALENDAR
VERSION:2.0
PRODID:-//wp-events-plugin.com//6.6.3//EN
TZID:Europe/Berlin
X-WR-TIMEZONE:Europe/Berlin
BEGIN:VEVENT
UID:0-709@veranstaltungen.muenchen.de
DTSTART;TZID=Europe/Berlin:20240109T173000
DTEND;TZID=Europe/Berlin:20240416T184500
DTSTAMP:20240103T124415Z
URL:https://veranstaltungen.muenchen.de/por/veranstaltungen/yoga-am-gaertn
 erplatz/
SUMMARY:Yoga am Gärtnerplatz
DESCRIPTION:\n\n\nIn dieser Hatha-Vinyasa Yogastunde geht es darum\, nach e
 inem langen Tag den Kopf auszuschalten\, den Körper in Bewegung zu bringe
 n\, die Vorteile der eigenen Atmung zu genießen und mit einem Gefühl von
  mehr Kraft\, Beweglichkeit und Gelassenheit in Körper und Geist nach Hau
 se zu gehen.\n\n\n\n\n\n\nKatharina ist Yogalehrerin und ausgebildet in Yo
 gatherapie. In ihren Stunden gehen die Bewegungen fließend zur Musik inei
 nander über\, während die Ausrichtung der Haltungen von ihr erklärt wir
 d. Es sind sowohl Anfänger als auch erfahrene Übende herzlich willkommen
 .\n&nbsp\;\n\nBitte mitbringen: Yogamatte\, Decke\, wenn vorhanden Blöck
 e\, etwas zu trinken\n\n&nbsp\;\n\nBitte beachten Sie:\n\n 	Sie sind nicht
  über die Stadt München versichert.\n 	Der Kurs findet außerhalb der Ar
 beitszeit statt.\n 	Die Anmeldung gilt verbindlich für alle Termine\n 	Ei
 ne regelmäßige Teilnahme erleichtert das Verständnis für die Übungen 
 und deren Effektivität\n 	Alle Angebote sind grundsätzlich gratis. Sie
  werden vom Gesetzgeber nach § 3 Nr. 34 EStG als betriebliche Gesundheits
 förderung anerkannt und sind deshalb bis zu einem Betrag von 600 € jäh
 rlich grundsätzlich steuerfrei. Der geldwerte Vorteil\, der im jeweiligen
  Lohnkonto dokumentiert werden muss\, liegt für alle Angebote bei 3 Euro.
  Eine Versteuerung würde nur erfolgen\, wenn die 600 € überschritten s
 ind und dann auch nur für den Betrag\, der über diesen Maximalwert hinau
 s geht.\n\n&nbsp\;\n\n\n\n&nbsp\;
CATEGORIES:Gesundheitsangebote
LOCATION:Schulsporthalle 2\, Eingang Corneliusstr. 17A\, Klenzestr. 27\, M
 ünchen\, Deutschland
X-APPLE-STRUCTURED-LOCATION;VALUE=URI;X-ADDRESS=Klenzestr. 27\, München\, 
 Deutschland;X-APPLE-RADIUS=100;X-TITLE=Schulsporthalle 2\, Eingang Corneli
 usstr. 17A:geo:0,0
END:VEVENT
BEGIN:VTIMEZONE
TZID:Europe/Berlin
X-LIC-LOCATION:Europe/Berlin
BEGIN:STANDARD
DTSTART:20231029T020000
TZOFFSETFROM:+0200
TZOFFSETTO:+0100
TZNAME:CET
END:STANDARD
BEGIN:DAYLIGHT
DTSTART:20240331T030000
TZOFFSETFROM:+0100
TZOFFSETTO:+0200
TZNAME:CEST
END:DAYLIGHT
END:VTIMEZONE
END:VCALENDAR