
BEGIN:VCALENDAR
VERSION:2.0
PRODID:-//wp-events-plugin.com//6.6.3//EN
TZID:Europe/Berlin
X-WR-TIMEZONE:Europe/Berlin
BEGIN:VEVENT
UID:0-908@veranstaltungen.muenchen.de
DTSTART;TZID=Europe/Berlin:20260724T093000
DTEND;TZID=Europe/Berlin:20260724T130000
DTSTAMP:20260413T064629Z
URL:https://veranstaltungen.muenchen.de/por/veranstaltungen/willkommen-in-
 muenchen-52/
SUMMARY:Willkommen in München
DESCRIPTION:• Fischbrunnen\n• St. Peter\n• Rathaus (Säle\, sofern si
 e frei sind\, Juristische Bibliothek)\n• Infopoint im alten Hof\n• Fra
 uenkirche\n• Heilig-Geist-Kirche\n• Rathausturm
CATEGORIES:Willkommensveranstaltungen
LOCATION:Neues Rathaus | Fischbrunnen\, Marienplatz 8\, München\, Deutschl
 and
GEO:48.137384;11.576073
X-APPLE-STRUCTURED-LOCATION;VALUE=URI;X-ADDRESS=Marienplatz 8\, München\, 
 Deutschland;X-APPLE-RADIUS=100;X-TITLE=Neues Rathaus | Fischbrunnen:geo:48
 .137384,11.576073
END:VEVENT
BEGIN:VTIMEZONE
TZID:Europe/Berlin
X-LIC-LOCATION:Europe/Berlin
BEGIN:DAYLIGHT
DTSTART:20260329T030000
TZOFFSETFROM:+0100
TZOFFSETTO:+0200
TZNAME:CEST
END:DAYLIGHT
END:VTIMEZONE
END:VCALENDAR