
BEGIN:VCALENDAR
VERSION:2.0
PRODID:-//wp-events-plugin.com//6.6.3//EN
TZID:Europe/Berlin
X-WR-TIMEZONE:Europe/Berlin
BEGIN:VEVENT
UID:0-371@veranstaltungen.muenchen.de
DTSTART;TZID=Europe/Berlin:20200528T150000
DTEND;TZID=Europe/Berlin:20200529T150000
DTSTAMP:20200525T072226Z
URL:https://veranstaltungen.muenchen.de/por/veranstaltungen/willkommen-in-
 muenchen-40/
SUMMARY:Willkommen in München
DESCRIPTION:Die Veranstaltung wurde abgesagt!\n&nbsp\;\n\nWir laden Sie seh
 r herzlich zu einem Rundgang durch die Münchner Stadtgeschichte ein. Auf 
 kurzweilige Weise wird Ihnen Dr. Michael Meuer\, renommierter Kunsthistori
 ker und ehemaliger Abteilungsleiter "Bildende Kunst" im Kulturreferat\, di
 e wesentlichen Merkmale der Kultur- und Kunstgeschichte sowie die historis
 che Stadttopografie vermitteln.\n\n&nbsp\;\n\nDas Programm verteilt sich a
 uf zwei Tage à 2\,5 bis 3 Stunden und beinhaltet:\n\n&nbsp\;\n\neinen Bes
 uch des Münchner Stadtmuseums\, den Besuch der städtischen Galerie im Le
 nbachhaus\, des Neuen Rathauses (im Mittelpunkt stehen Pilotys Gemälde "D
 ie Monachia" im Großen Sitzungssaal und der Kleine Sitzungssaal)\, die ju
 ristische Bibliothek\, den Besuch des Alten Peter\, der Besuch der Frauen
 kirche und von St. Michael sowie die Auffahrt zum Rathausturm.\n\n&nbsp\;\
 n\nTreffpunkt Donnerstag 15:00 Uhr: Münchner Stadtmuseum am Empfang im Er
 dgeschoss. Bitte schließen Sie im Vorfeld Ihre Wertsachen ein\, damit wir
  pünktlich um 15.00 Uhr mit der Führung beginnen können. (Dauer ca. 2\,
 5 Stunden)\n\nTreffpunkt Freitag 9:00 Uhr: Fischbrunnen vor dem Rathaus. (
 Dauer ca. 3 Stunden)\n\n&nbsp\;\n\nDie Teilnahme an dieser Veranstaltung z
 ählt als Arbeitszeit.\n\nSollten Sie noch Fragen haben prüfen Sie bitte 
 zunächst ob diese Ihnen HIER in den FAQs (Häufig gestellte Fragen) bean
 twortet werden. Vielen Dank
CATEGORIES:Willkommensveranstaltungen
END:VEVENT
BEGIN:VTIMEZONE
TZID:Europe/Berlin
X-LIC-LOCATION:Europe/Berlin
BEGIN:DAYLIGHT
DTSTART:20200329T030000
TZOFFSETFROM:+0100
TZOFFSETTO:+0200
TZNAME:CEST
END:DAYLIGHT
END:VTIMEZONE
END:VCALENDAR