
BEGIN:VCALENDAR
VERSION:2.0
PRODID:-//wp-events-plugin.com//6.6.3//EN
TZID:Europe/Berlin
X-WR-TIMEZONE:Europe/Berlin
BEGIN:VEVENT
UID:0-403@veranstaltungen.muenchen.de
DTSTART;TZID=Europe/Berlin:20200211T130000
DTEND;TZID=Europe/Berlin:20200211T160000
DTSTAMP:20200113T093244Z
URL:https://veranstaltungen.muenchen.de/por/veranstaltungen/wagen-sie-den-
 sprung-fk-workshop-3/
SUMMARY:Wagen Sie den Sprung - FK Workshop 3
DESCRIPTION:&nbsp\;\n\n\n\n&nbsp\;\n\nIMPULSVORTRAG - In einem Impulsvortra
 g von Frau Dr. med. Manuela Jacob-Niedballa\, einer Expertin für gesunden
  Umgang mit Stress\, Konfliktmanagement und gesunder Führung\, erhalten S
 ie auf humorvolle Weise Einblick in die Faktoren belastender Arbeitsplatzs
 ituationen und den Umgang damit.\n\n&nbsp\;\n\nWORKSHOP 3 für Führungskr
 äfte - "Trotz Veränderungen entspannt arbeiten?!"\n\nKleine Veränderung
 en im Team\, in den Arbeitsabläufen oder auch große Veränderungsprozess
 e fordern alle Beteiligten heraus. Die Reaktionen darauf sind sehr untersc
 hiedlich und Konflikte und belastende Arbeitsplatzsituationen können schn
 ell entstehen\, müssen aber nicht sein. Erfahren Sie in diesem Workshop w
 as Sie für sich tun können und wie Sie Ihre Mitarbeiter*innen unterstüt
 zen.\n\nWS-Leitung: Carolin Grimm\; Zentrale Stelle für Mediation und Kon
 fliktmanagement\nAlexander Bierl\; Organisationsberatung\n\n \n\nHinweis:
  Melden Sie sich ausschließlich zu einem der angebotenen Workshops an.\n\
 n&nbsp\;
LOCATION:Literaturhaus München\, Salvatorplatz 1\, München\, 80333\, Deut
 schland
GEO:48.1420062;11.574944691122486
X-APPLE-STRUCTURED-LOCATION;VALUE=URI;X-ADDRESS=Salvatorplatz 1\, München\
 , 80333\, Deutschland;X-APPLE-RADIUS=100;X-TITLE=Literaturhaus München:ge
 o:48.1420062,11.574944691122486
END:VEVENT
BEGIN:VTIMEZONE
TZID:Europe/Berlin
X-LIC-LOCATION:Europe/Berlin
BEGIN:STANDARD
DTSTART:20191027T020000
TZOFFSETFROM:+0200
TZOFFSETTO:+0100
TZNAME:CET
END:STANDARD
END:VTIMEZONE
END:VCALENDAR