
BEGIN:VCALENDAR
VERSION:2.0
PRODID:-//wp-events-plugin.com//6.6.3//EN
TZID:Europe/Berlin
X-WR-TIMEZONE:Europe/Berlin
BEGIN:VEVENT
UID:0-918@veranstaltungen.muenchen.de
DTSTART;TZID=Europe/Berlin:20260325T093000
DTEND;TZID=Europe/Berlin:20260325T120000
DTSTAMP:20260219T133411Z
URL:https://veranstaltungen.muenchen.de/por/veranstaltungen/vernetzungstre
 ffen-bgm-meets-gpm/
SUMMARY:Vernetzungstreffen: BGM meets GPM
DESCRIPTION:Sehr geehrte Koordinator*innen für Arbeitsschutz- und Gesundhe
 itsmanagement\,\n\nim März wollen wir Sie zu einem Vernetzungstreffen mit
  dem Thema "BGM meets GPM" einladen.\nWann: 25. März 2026\;  9.30 - 12 U
 hr\n\nAblauf:\n\n 	Ziel und Anlass der Veranstaltung\n 	Vorstellung GPM de
 r LHM – Ziele und Rollen\n 	Pause\n 	Vorstellung eines konkreten Prozess
 es und welche Fragen sich dabei gestellt haben.\n\n&nbsp\;\n\nZielgruppe: 
 Koordinator*innen für Arbeitsschutz- und Gesundheitsmanagement\n\nDie Ver
 anstaltung wird in der Rosenheimer Straße 118 im 9. Stock\, Zimmer 09.B27
  stattfinden.\n\n&nbsp\;\n\nAnmeldungen sind ausschließlich über diese A
 nmeldemaske bis zum 20. März\, 12 Uhr möglich.\n\n\nWir bieten für dies
 es Treffen nur 25 Plätze an\, falls das Interesse sehr hoch ist\, bieten 
 wir die Veranstaltung gerne zu einem späteren Zeitpunkt erneut für Sie a
 n.\n\nNutzen Sie auch gerne die Warteliste.\n\nSollten Sie den Termin kurz
 fristig absagen müssen\, bitten wir Sie um eine Information an unser Post
 fach: por43-zbgm.por@muenchen.de\n\nWir freuen uns auf Sie!
CATEGORIES:Gesundheitsangebote
LOCATION:POR Raum ROS 09.B27\, Rosenheimer Straße 118\, München\, Bayern\
 , 81669\, Deutschland
GEO:48.123253;11.599762
X-APPLE-STRUCTURED-LOCATION;VALUE=URI;X-ADDRESS=Rosenheimer Straße 118\, M
 ünchen\, Bayern\, 81669\, Deutschland;X-APPLE-RADIUS=100;X-TITLE=POR Raum
  ROS 09.B27:geo:48.123253,11.599762
END:VEVENT
BEGIN:VTIMEZONE
TZID:Europe/Berlin
X-LIC-LOCATION:Europe/Berlin
BEGIN:STANDARD
DTSTART:20251026T020000
TZOFFSETFROM:+0200
TZOFFSETTO:+0100
TZNAME:CET
END:STANDARD
END:VTIMEZONE
END:VCALENDAR