
BEGIN:VCALENDAR
VERSION:2.0
PRODID:-//wp-events-plugin.com//6.6.3//EN
TZID:Europe/Berlin
X-WR-TIMEZONE:Europe/Berlin
BEGIN:VEVENT
UID:14-276@veranstaltungen.muenchen.de
DTSTART;TZID=Europe/Berlin:20190502T090000
DTEND;TZID=Europe/Berlin:20190502T100000
DTSTAMP:20190401T064748Z
URL:https://veranstaltungen.muenchen.de/por/veranstaltungen/tinnitus-was-t
 un/
SUMMARY:Tinnitus – Was tun?
DESCRIPTION:\nOhrgeräusche\, ob akut oder chronisch\, sind weit verbreitet
  und können bei dauerhaftem Auftreten zu Angst\, Hoffnungslosigkeit und D
 epressionen führen. Auf der Suche nach Heilungsmöglichkeiten geraten Bet
 roffene oft an zweifelhafte\, heilungsversprechende Methoden\, die unseri
 ös und teuer sind. Erfahren Sie\, welche Möglichkeiten der Bewältigung 
 es beim Symptom "Tinnitus" gibt und welche weniger erfolgversprechend sind
 . Erfahrungen von Fachleuten und Betroffenen fließen in den Vortrag ein.\
 n&nbsp\;\n\nRauminformation: Raum 1.009 A\nHerr Strohschein\, MVHS
CATEGORIES:Gesundheitsangebote
LOCATION:Referat für Gesundheit und Umwelt\, Raum 1.009 A\, Bayerstr. 28 A
 \, München\, Deutschland
GEO:48.1392055;11.5596269
X-APPLE-STRUCTURED-LOCATION;VALUE=URI;X-ADDRESS=Bayerstr. 28 A\, München\,
  Deutschland;X-APPLE-RADIUS=100;X-TITLE=Referat für Gesundheit und Umwelt
 \, Raum 1.009 A:geo:48.1392055,11.5596269
END:VEVENT
BEGIN:VTIMEZONE
TZID:Europe/Berlin
X-LIC-LOCATION:Europe/Berlin
BEGIN:DAYLIGHT
DTSTART:20190331T030000
TZOFFSETFROM:+0100
TZOFFSETTO:+0200
TZNAME:CEST
END:DAYLIGHT
END:VTIMEZONE
END:VCALENDAR