
BEGIN:VCALENDAR
VERSION:2.0
PRODID:-//wp-events-plugin.com//6.6.3//EN
TZID:Europe/Berlin
X-WR-TIMEZONE:Europe/Berlin
BEGIN:VEVENT
UID:14-258@veranstaltungen.muenchen.de
DTSTART;TZID=Europe/Berlin:20190502T093000
DTEND;TZID=Europe/Berlin:20190502T103000
DTSTAMP:20190401T065942Z
URL:https://veranstaltungen.muenchen.de/por/veranstaltungen/selbsthilfe-be
 i-kopfschmerzen/
SUMMARY:Selbsthilfe bei Kopfschmerzen
DESCRIPTION:\nDie beiden häufigsten Formen von Kopfschmerzen sind Migräne
  und Spannungskopfschmerz. Sie treten meist plötzlich auf und beeinflusse
 n damit Lebensqualität und Leistungsvermögen. Wo kommt der Schmerz her\,
  wie kann den Schmerzen vorgebeugt werden und welche Methoden der Selbsthi
 lfe gibt es? Sie erlernen mit Übungen aus dem Bereich der Entspannungstec
 hnik\, Akupressur sowie Faszien-Dehnung verschiedene Möglichkeiten der Se
 lbsthilfe.\n&nbsp\;\n\nRauminformation: Raum 222\nFrau Günther\, MVHS
CATEGORIES:Gesundheitsangebote
LOCATION:Aus- und Fortbildungszentrum\, Ruppertstr.11\, München\, 80331\, 
 Deutschland
GEO:48.1240365;11.552119500000003
X-APPLE-STRUCTURED-LOCATION;VALUE=URI;X-ADDRESS=Ruppertstr.11\, München\, 
 80331\, Deutschland;X-APPLE-RADIUS=100;X-TITLE=Aus- und Fortbildungszentru
 m:geo:48.1240365,11.552119500000003
END:VEVENT
BEGIN:VTIMEZONE
TZID:Europe/Berlin
X-LIC-LOCATION:Europe/Berlin
BEGIN:DAYLIGHT
DTSTART:20190331T030000
TZOFFSETFROM:+0100
TZOFFSETTO:+0200
TZNAME:CEST
END:DAYLIGHT
END:VTIMEZONE
END:VCALENDAR