
BEGIN:VCALENDAR
VERSION:2.0
PRODID:-//wp-events-plugin.com//6.6.3//EN
TZID:Europe/Berlin
X-WR-TIMEZONE:Europe/Berlin
BEGIN:VEVENT
UID:0-704@veranstaltungen.muenchen.de
DTSTART;TZID=Europe/Berlin:20240108T180000
DTEND;TZID=Europe/Berlin:20240722T190000
DTSTAMP:20240209T081224Z
URL:https://veranstaltungen.muenchen.de/por/veranstaltungen/qigong-onlinek
 urs-via-webex/
SUMMARY:QIGONG – Onlinekurs via webex
DESCRIPTION:Inhalt\nDie langsamen\, fließenden Bewegungen des Qigongs vers
 etzen in einen entspannten und achtsamen Zustand und lassen die universell
 e Lebensenergie im Körper fließen. Qigong gibt neue Lebenskraft\, aktivi
 ert die Selbstheilungskräfte\, und ganz natürlich kommen Körper\, Geist
  und Emotionen wieder in Balance.\n\n&nbsp\;\n\nWebexlink zur Teilnahme\nD
 en Webexlink erhalten Sie umgehend mit der Anmeldebestätigung via Mail.\n
 \nEine Anmeldung ist jederzeit möglich.\nBitte beachten Sie:\n\n 	Sie sin
 d nicht über die Stadt München versichert.\n 	Der Kurs findet außerhalb
  der Arbeitszeit statt.\n 	Die Anmeldung gilt verbindlich für alle Termin
 e.\n 	Den Webexlink erhalten Sie umgehend nach der Anmeldung mit der Anmel
 debestätigung via Mail.\n 	Alle Angebote sind grundsätzlich gratis. Si
 e werden vom Gesetzgeber nach § 3 Nr. 34 EStG als betriebliche Gesundheit
 sförderung anerkannt und sind deshalb bis zu einem Betrag von 600 € jä
 hrlich grundsätzlich steuerfrei. Der geldwerte Vorteil\, der im jeweilige
 n Lohnkonto dokumentiert werden muss\, liegt für alle Angebote bei 3 Euro
 . Eine Versteuerung würde nur erfolgen\, wenn die 600 € überschritten 
 sind und dann auch nur für den Betrag\, der über diesen Maximalwert hina
 us geht.\n
CATEGORIES:Gesundheitsangebote
END:VEVENT
BEGIN:VTIMEZONE
TZID:Europe/Berlin
X-LIC-LOCATION:Europe/Berlin
BEGIN:STANDARD
DTSTART:20231029T020000
TZOFFSETFROM:+0200
TZOFFSETTO:+0100
TZNAME:CET
END:STANDARD
BEGIN:DAYLIGHT
DTSTART:20240331T030000
TZOFFSETFROM:+0100
TZOFFSETTO:+0200
TZNAME:CEST
END:DAYLIGHT
END:VTIMEZONE
END:VCALENDAR