
BEGIN:VCALENDAR
VERSION:2.0
PRODID:-//wp-events-plugin.com//6.6.3//EN
TZID:Europe/Berlin
X-WR-TIMEZONE:Europe/Berlin
BEGIN:VEVENT
UID:0-898@veranstaltungen.muenchen.de
DTSTART;TZID=Europe/Berlin:20260112T180000
DTEND;TZID=Europe/Berlin:20260727T190000
DTSTAMP:20260115T125413Z
URL:https://veranstaltungen.muenchen.de/por/veranstaltungen/qigong-onlinek
 urs-via-webex-4/
SUMMARY:QIGONG – Onlinekurs via webex
DESCRIPTION:Inhalt\nDie langsamen\, fließenden Bewegungen des Qigong verse
 tzen in einen entspannten und achtsamen Zustand und lassen die universelle
  Lebensenergie im Körper fließen. Qigong gibt neue Lebenskraft\, aktivie
 rt die Selbstheilungskräfte\, und ganz natürlich kommen Körper\, Geist 
 und Emotionen wieder in Balance.\n\n&nbsp\;\n\nDer Webexlink zur Teilnahme
  wird umgehend nach der Anmeldung zugesendet und ist bis Ende Juli 2026 g
 ültig.\nACHTUNG! Eine Teilnahme funktioniert aus Sicherheitsgründen nur 
 mit der dienstlichen Mailadresse und der WebexApp!Eine Anmeldung ist jeder
 zeit möglich.\n\n&nbsp\;\n\nBitte beachten Sie:\n\n 	Anmeldung: Nur einma
 l und immer mit der dienstlichen Mailadresse anmelden. Ansonsten wird der 
 geldwerte Vorteil mehrmals im Lohnkonto dokumentiert.\n 	Sie sind nicht ü
 ber die Stadt München versichert.\n 	Der Kurs findet außerhalb der Arbei
 tszeit statt.\n 	Die Anmeldung gilt verbindlich für alle Termine.\n 	Alle
  Angebote sind grundsätzlich gratis. Sie werden vom Gesetzgeber nach §
  3 Nr. 34 EStG als betriebliche Gesundheitsförderung anerkannt und sind d
 eshalb bis zu einem Betrag von 600 € jährlich grundsätzlich steuerfrei
 . Die Kursgebühr\, die im jeweiligen Lohnkonto dokumentiert werden muss\,
  liegt für alle Angebote bei 3 Euro. Eine Versteuerung würde nur erfolge
 n\, wenn die 600 € überschritten sind und dann auch nur für den Betrag
 \, der über diesen Maximalwert hinaus geht.\n
CATEGORIES:Gesundheitsangebote
END:VEVENT
BEGIN:VTIMEZONE
TZID:Europe/Berlin
X-LIC-LOCATION:Europe/Berlin
BEGIN:STANDARD
DTSTART:20251026T020000
TZOFFSETFROM:+0200
TZOFFSETTO:+0100
TZNAME:CET
END:STANDARD
BEGIN:DAYLIGHT
DTSTART:20260329T030000
TZOFFSETFROM:+0100
TZOFFSETTO:+0200
TZNAME:CEST
END:DAYLIGHT
END:VTIMEZONE
END:VCALENDAR