
BEGIN:VCALENDAR
VERSION:2.0
PRODID:-//wp-events-plugin.com//6.6.3//EN
TZID:Europe/Berlin
X-WR-TIMEZONE:Europe/Berlin
BEGIN:VEVENT
UID:0-825@veranstaltungen.muenchen.de
DTSTART;TZID=Europe/Berlin:20250113T180000
DTEND;TZID=Europe/Berlin:20250728T190000
DTSTAMP:20250121T102742Z
URL:https://veranstaltungen.muenchen.de/por/veranstaltungen/qigong-onlinek
 urs-via-webex-3/
SUMMARY:QIGONG – Onlinekurs via webex
DESCRIPTION:Inhalt\nDie langsamen\, fließenden Bewegungen des Qigong verse
 tzen in einen entspannten und achtsamen Zustand und lassen die universelle
  Lebensenergie im Körper fließen. Qigong gibt neue Lebenskraft\, aktivie
 rt die Selbstheilungskräfte\, und ganz natürlich kommen Körper\, Geist 
 und Emotionen wieder in Balance.\n\n&nbsp\;\n\nWebexlink zur Teilnahme\nDe
 n Webexlink erhalten Sie umgehend mit der Anmeldebestätigung via Mail.\nA
 CHTUNG! Eine Teilnahme funktioniert aus Sicherheitsgründen nur mit der di
 enstlichen Mailadresse und der WebexApp!\n\nEine Anmeldung ist jederzeit m
 öglich.\nBitte beachten Sie:\n\n 	Sie sind nicht über die Stadt München
  versichert.\n 	Der Kurs findet außerhalb der Arbeitszeit statt.\n 	Die A
 nmeldung gilt verbindlich für alle Termine.\n 	Alle Angebote sind grunds
 ätzlich gratis. Sie werden vom Gesetzgeber nach § 3 Nr. 34 EStG als be
 triebliche Gesundheitsförderung anerkannt und sind deshalb bis zu einem B
 etrag von 600 € jährlich grundsätzlich steuerfrei. Die Kursgebühr\, d
 ie im jeweiligen Lohnkonto dokumentiert werden muss\, liegt für alle Ange
 bote bei 3 Euro. Eine Versteuerung würde nur erfolgen\, wenn die 600 € 
 überschritten sind und dann auch nur für den Betrag\, der über diesen M
 aximalwert hinaus geht.\n
CATEGORIES:Gesundheitsangebote
END:VEVENT
BEGIN:VTIMEZONE
TZID:Europe/Berlin
X-LIC-LOCATION:Europe/Berlin
BEGIN:STANDARD
DTSTART:20241027T020000
TZOFFSETFROM:+0200
TZOFFSETTO:+0100
TZNAME:CET
END:STANDARD
BEGIN:DAYLIGHT
DTSTART:20250330T030000
TZOFFSETFROM:+0100
TZOFFSETTO:+0200
TZNAME:CEST
END:DAYLIGHT
END:VTIMEZONE
END:VCALENDAR