
BEGIN:VCALENDAR
VERSION:2.0
PRODID:-//wp-events-plugin.com//6.6.3//EN
TZID:Europe/Berlin
X-WR-TIMEZONE:Europe/Berlin
BEGIN:VEVENT
UID:0-916@veranstaltungen.muenchen.de
DTSTART;TZID=Europe/Berlin:20260518T140000
DTEND;TZID=Europe/Berlin:20260518T170000
DTSTAMP:20260209T093324Z
URL:https://veranstaltungen.muenchen.de/por/veranstaltungen/mut-und-innere
 -staerke/
SUMMARY:Netzwerkveranstaltung für Obere Führungskräfte: Mut und innere S
 tärke
DESCRIPTION:&nbsp\;\n\nEinlass  13:30  Uhr\n\nBeginn 14:00 - Ende 17:00Uh
 r
LOCATION:Werkraum der Münchner Kammerspiele\, Hildegardstraße 1\, Münche
 n\, Bayern\, 80539\, Deutschland
GEO:48.137669;11.581877
X-APPLE-STRUCTURED-LOCATION;VALUE=URI;X-ADDRESS=Hildegardstraße 1\, Münch
 en\, Bayern\, 80539\, Deutschland;X-APPLE-RADIUS=100;X-TITLE=Werkraum der 
 Münchner Kammerspiele:geo:48.137669,11.581877
END:VEVENT
BEGIN:VTIMEZONE
TZID:Europe/Berlin
X-LIC-LOCATION:Europe/Berlin
BEGIN:DAYLIGHT
DTSTART:20260329T030000
TZOFFSETFROM:+0100
TZOFFSETTO:+0200
TZNAME:CEST
END:DAYLIGHT
END:VTIMEZONE
END:VCALENDAR