
BEGIN:VCALENDAR
VERSION:2.0
PRODID:-//wp-events-plugin.com//6.6.3//EN
TZID:Europe/Berlin
X-WR-TIMEZONE:Europe/Berlin
BEGIN:VEVENT
UID:0-929@veranstaltungen.muenchen.de
DTSTART;TZID=Europe/Berlin:20260501T121500
DTEND;TZID=Europe/Berlin:20260731T124500
DTSTAMP:20260422T102130Z
URL:https://veranstaltungen.muenchen.de/por/veranstaltungen/mindergywork-o
 nline-via-vimeo/
SUMMARY:Mindergy@work – Online via Vimeo
DESCRIPTION:Kennst du das auch? Du gönnst Dir keine Zeit für Dich und Dei
 nen Körper? Trotzdem merkst du\, dass dir Bewegung und Achtsamkeit jetzt 
 unheimlich guttun würden?\nMindergy at Work bringt Bewegung\, Neuroübun
 gen und Entspannung direkt in den Arbeitsalltag – kurz\, alltagstauglich
  und ohne Umziehen. In nur 30 Minuten wird Stress reduziert\, die Konzentr
 ation gesteigert und der Rücken und Nacken spürbar entlastet. Das Angebo
 t ist für alle Fitnesslevel geeignet – auch ohne Yoga- oder Sporterfahr
 ung. Einfach anmelden und mitmachen.\nWichtig! Die Termine am Besten in de
 n Kalender eintragen\, damit du keine Stunde verpasst.\n&nbsp\;\n\nEine An
 meldung ist jederzeit möglich.\n\n&nbsp\;\n\n&nbsp\;\n\n&nbsp\;\n\nBitte 
 beachten Sie:\n\n 	Anmeldung: Nur einmal und immer mit der dienstlichen Ma
 iladresse anmelden. Ansonsten wird der geldwerte Vorteil mehrmals im Lohnk
 onto dokumentiert.\n 	Sie sind nicht über die Stadt München versichert\n
  	Der Kurs findet außerhalb der Arbeitszeit statt.\n 	Die Anmeldung gilt 
 verbindlich für alle Termine\n 	Eine regelmäßige Teilnahme erleichtert 
 das Verständnis für die Übungen und deren Effektivität\n 	Den Vimeolin
 k erhalten Sie umgehend nach der Anmeldung mit der Anmeldebestätigung via
  Mail.\n 	Alle Angebote sind grundsätzlich gratis. Sie werden vom Geset
 zgeber nach § 3 Nr. 34 EStG als betriebliche Gesundheitsförderung anerka
 nnt und sind deshalb bis zu einem Betrag von 600 € jährlich grundsätzl
 ich steuerfrei. Der geldwerte Vorteil\, der im jeweiligen Lohnkonto dokume
 ntiert werden muss\, liegt für alle Angebote bei 3 Euro. Eine Versteuerun
 g würde nur erfolgen\, wenn die 600 € überschritten sind und dann auch
  nur für den Betrag\, der über diesen Maximalwert hinaus geht.\n\n&nbsp\
 ;\n\n&nbsp\;\n\n&nbsp\;
CATEGORIES:Gesundheitsangebote
END:VEVENT
BEGIN:VTIMEZONE
TZID:Europe/Berlin
X-LIC-LOCATION:Europe/Berlin
BEGIN:DAYLIGHT
DTSTART:20260329T030000
TZOFFSETFROM:+0100
TZOFFSETTO:+0200
TZNAME:CEST
END:DAYLIGHT
END:VTIMEZONE
END:VCALENDAR