
BEGIN:VCALENDAR
VERSION:2.0
PRODID:-//wp-events-plugin.com//6.6.3//EN
TZID:Europe/Berlin
X-WR-TIMEZONE:Europe/Berlin
BEGIN:VEVENT
UID:0-897@veranstaltungen.muenchen.de
DTSTART;TZID=Europe/Berlin:20260107T121500
DTEND;TZID=Europe/Berlin:20260729T124500
DTSTAMP:20251211T101510Z
URL:https://veranstaltungen.muenchen.de/por/veranstaltungen/mindandmovewor
 k-online-via-vimeo-2/
SUMMARY:MindandMove@work Online via Vimeo
DESCRIPTION:Kennst du das auch? Du gönnst Dir keine Zeit für Dich und Dei
 nen Körper? Trotzdem merkst du\, dass dir Bewegung und Achtsamkeit jetzt 
 unheimlich guttun würden?Ohne Yoga-Vorkenntnisse lernst du viele Übungen
  mit Hilfe von Stuhl und Schreibtisch\, die du jederzeit wiederholen kanns
 t. Du wirst da abgeholt\, wo Du gerade stehst.Gönne dir diese stärkende 
 Ruhepause\, um die täglichen Herausforderungen wieder mit Freude zu meist
 ern.\n&nbsp\;\n\nEine Anmeldung ist jederzeit möglich.\n\n&nbsp\;\n\n&nbs
 p\;\n\n&nbsp\;\n\nBitte beachten Sie:\n\n 	Anmeldung: Nur einmal und immer
  mit der dienstlichen Mailadresse anmelden. Ansonsten wird der geldwerte V
 orteil mehrmals im Lohnkonto dokumentiert.\n 	Sie sind nicht über die Sta
 dt München versichert\n 	Der Kurs findet außerhalb der Arbeitszeit statt
 .\n 	Die Anmeldung gilt verbindlich für alle Termine\n 	Eine regelmäßig
 e Teilnahme erleichtert das Verständnis für die Übungen und deren Effek
 tivität\n 	Den Vimeolink erhalten Sie umgehend nach der Anmeldung mit der
  Anmeldebestätigung via Mail.\n 	Alle Angebote sind grundsätzlich grati
 s. Sie werden vom Gesetzgeber nach § 3 Nr. 34 EStG als betriebliche Gesu
 ndheitsförderung anerkannt und sind deshalb bis zu einem Betrag von 600 
 € jährlich grundsätzlich steuerfrei. Der geldwerte Vorteil\, der im je
 weiligen Lohnkonto dokumentiert werden muss\, liegt für alle Angebote bei
  3 Euro. Eine Versteuerung würde nur erfolgen\, wenn die 600 € übersch
 ritten sind und dann auch nur für den Betrag\, der über diesen Maximalwe
 rt hinaus geht.\n\n&nbsp\;\n\n&nbsp\;\n\n&nbsp\;
CATEGORIES:Gesundheitsangebote
END:VEVENT
BEGIN:VTIMEZONE
TZID:Europe/Berlin
X-LIC-LOCATION:Europe/Berlin
BEGIN:STANDARD
DTSTART:20251026T020000
TZOFFSETFROM:+0200
TZOFFSETTO:+0100
TZNAME:CET
END:STANDARD
BEGIN:DAYLIGHT
DTSTART:20260329T030000
TZOFFSETFROM:+0100
TZOFFSETTO:+0200
TZNAME:CEST
END:DAYLIGHT
END:VTIMEZONE
END:VCALENDAR