
BEGIN:VCALENDAR
VERSION:2.0
PRODID:-//wp-events-plugin.com//6.6.3//EN
TZID:Europe/Berlin
X-WR-TIMEZONE:Europe/Berlin
BEGIN:VEVENT
UID:0-392@veranstaltungen.muenchen.de
DTSTART;TZID=Europe/Berlin:20200220T140000
DTEND;TZID=Europe/Berlin:20200220T160000
DTSTAMP:20200107T094446Z
URL:https://veranstaltungen.muenchen.de/por/veranstaltungen/marketing-schu
 lung-06/
SUMMARY:Marketing Schulung 20.02.2019
DESCRIPTION:\n\nLiebe Nachwuchskräfte\,\n\nbitte senden Sie uns nach Ihrer
  Anmeldung eine zusätzliche E-Mail an unser Gruppenpostfach (karriere@mue
 nchen.de)\, in der Sie uns Ihre Ausbildungs- oder Studienrichtung und das 
 Datum\, an dem Sie an der Veranstaltung teilnehmen\, mitteilen.\n\n&nbsp\;
 \n\n&nbsp\;
LOCATION:Claudius Keller Straße - 6. Etage - Raum 6M143\, Claudius-Keller-
 Straße 3b\, München\, Bayern\, 81669\, Deutschland
GEO:48.1166515;11.6026362
X-APPLE-STRUCTURED-LOCATION;VALUE=URI;X-ADDRESS=Claudius-Keller-Straße 3b\
 , München\, Bayern\, 81669\, Deutschland;X-APPLE-RADIUS=100;X-TITLE=Claud
 ius Keller Straße - 6. Etage - Raum 6M143:geo:48.1166515,11.6026362
END:VEVENT
BEGIN:VTIMEZONE
TZID:Europe/Berlin
X-LIC-LOCATION:Europe/Berlin
BEGIN:STANDARD
DTSTART:20191027T020000
TZOFFSETFROM:+0200
TZOFFSETTO:+0100
TZNAME:CET
END:STANDARD
END:VTIMEZONE
END:VCALENDAR