
BEGIN:VCALENDAR
VERSION:2.0
PRODID:-//wp-events-plugin.com//6.6.3//EN
TZID:Europe/Berlin
X-WR-TIMEZONE:Europe/Berlin
BEGIN:VEVENT
UID:14-208@veranstaltungen.muenchen.de
DTSTART;TZID=Europe/Berlin:20181120T150000
DTEND;TZID=Europe/Berlin:20181120T180000
DTSTAMP:20181025T094917Z
URL:https://veranstaltungen.muenchen.de/por/veranstaltungen/maenner-an-den
 -herd-wilde-kueche/
SUMMARY:Männer an den Herd: Wilde Küche?!
DESCRIPTION:Wilde Küche?...! Neues Wagen! Ungewöhnliche Kombinationen aus
 probieren! Andere Zubereitungstechniken erproben!\n\n In diesem Kochkurs k
 önnen Sie sich einmal ganz andere unkomplizierte Anregungen für die Allt
 agsküche einholen. Ob Fleisch\, Fisch\, Gemüse oder Getreide: auch ohne 
 Vorwissen für Jedermann geeignet.\n\n&nbsp\;\n\nWir bitten Folgendes zu b
 eachten:\n\n 	Teilnehmen können ausschließlich männliche Beschäftigte.
 \n 	Die Teilnahmezeit von insgesamt 180 Minuten gilt zu 50% als Arbeitszei
 t. Für die Eintragung auf der Stempelkarte gilt:\nStempeln Sie ordnungsge
 mäß aus bzw. tragen Sie per Handeintrag ihr Arbeitsende ein (18:00 Uhr =
  115 ZWE) und ziehen Sie 15 ZWE als zusätzliche Pause ab. Unter Bemerkung
 en tragen Sie bitte "BGM-Veranstaltung" ein.\n 	Bitte bringen Sie eine Koc
 hschürze und Aufbewahrungsdosen (für übriggebliebene Speisen) mit.\n
CATEGORIES:Gesundheitsangebote
LOCATION:Lehrküche im Haus für Kinder\, Meindlstr. 8d\, München\, 81373\
 , Deutschland
GEO:48.11893;11.538000099999977
X-APPLE-STRUCTURED-LOCATION;VALUE=URI;X-ADDRESS=Meindlstr. 8d\, München\, 
 81373\, Deutschland;X-APPLE-RADIUS=100;X-TITLE=Lehrküche im Haus für Kin
 der:geo:48.11893,11.538000099999977
END:VEVENT
BEGIN:VTIMEZONE
TZID:Europe/Berlin
X-LIC-LOCATION:Europe/Berlin
BEGIN:STANDARD
DTSTART:20181028T020000
TZOFFSETFROM:+0200
TZOFFSETTO:+0100
TZNAME:CET
END:STANDARD
END:VTIMEZONE
END:VCALENDAR