
BEGIN:VCALENDAR
VERSION:2.0
PRODID:-//wp-events-plugin.com//6.6.3//EN
TZID:Europe/Berlin
X-WR-TIMEZONE:Europe/Berlin
BEGIN:VEVENT
UID:0-434@veranstaltungen.muenchen.de
DTSTART;TZID=Europe/Berlin:20200713T083000
DTEND;TZID=Europe/Berlin:20200715T163000
DTSTAMP:20200618T073741Z
URL:https://veranstaltungen.muenchen.de/por/veranstaltungen/koordinatorena
 usbildung-modul-1-2-termin/
SUMMARY:Koordinatorenausbildung Modul 1 (2. Termin)
DESCRIPTION:
LOCATION:Claudius-Keller-Str.\, Seminarraum im 2. OG.\, Claudius-Keller-Str
 . 3b\, München\, Deutschland
X-APPLE-STRUCTURED-LOCATION;VALUE=URI;X-ADDRESS=Claudius-Keller-Str. 3b\, M
 ünchen\, Deutschland;X-APPLE-RADIUS=100;X-TITLE=Claudius-Keller-Str.\, Se
 minarraum im 2. OG.:geo:0,0
END:VEVENT
BEGIN:VTIMEZONE
TZID:Europe/Berlin
X-LIC-LOCATION:Europe/Berlin
BEGIN:DAYLIGHT
DTSTART:20200329T030000
TZOFFSETFROM:+0100
TZOFFSETTO:+0200
TZNAME:CEST
END:DAYLIGHT
END:VTIMEZONE
END:VCALENDAR