
BEGIN:VCALENDAR
VERSION:2.0
PRODID:-//wp-events-plugin.com//6.6.3//EN
TZID:Europe/Berlin
X-WR-TIMEZONE:Europe/Berlin
BEGIN:VEVENT
UID:14-165@veranstaltungen.muenchen.de
DTSTART;TZID=Europe/Berlin:20180720T140000
DTEND;TZID=Europe/Berlin:20180720T173000
DTSTAMP:20180705T070440Z
URL:https://veranstaltungen.muenchen.de/por/veranstaltungen/kochkurs-juli-
 2018-2/
SUMMARY:Kochkurs - Welt der Gewürze
DESCRIPTION:Mal schnell in den Orient reisen? Oder in die französische Pra
 vence? Oder doch lieber nach Italien?\n\nKulinarisch gelingen diese Reisen
  am schnellsten und einfachsten mit den passenden Kräutern und Gewürzen.
  Kommen Sie mit auf Entdeckungsreise dieser vielseitigen und faszinierende
 n Zutaten und erweitern Sie ihren kulinarischen Horizont.\n\n&nbsp\;\n\nWi
 r bitten Folgendes zu beachten:\n\n&nbsp\;\n\n 	Die Veranstaltung findet a
 ußerhalb der Arbeits- bzw. Dienstzeit statt.\n 	Die anfallenden Kosten we
 rden durch das Personal- und Organisationsreferat übernommen.\n 	Tee\, Ka
 ffee\, Wasser stehen kostenfrei zur Verfügung.\n 	Bitte bringen Sie eine 
 Kochschürze und - für die übriggebliebenen Speisen – Aufbewahrungsdos
 en mit.\n
CATEGORIES:Gesundheitsangebote
LOCATION:Lehrküche im Haus für Kinder\, Meindlstr. 8d\, München\, 81373\
 , Deutschland
GEO:48.11893;11.538000099999977
X-APPLE-STRUCTURED-LOCATION;VALUE=URI;X-ADDRESS=Meindlstr. 8d\, München\, 
 81373\, Deutschland;X-APPLE-RADIUS=100;X-TITLE=Lehrküche im Haus für Kin
 der:geo:48.11893,11.538000099999977
END:VEVENT
BEGIN:VTIMEZONE
TZID:Europe/Berlin
X-LIC-LOCATION:Europe/Berlin
BEGIN:DAYLIGHT
DTSTART:20180325T030000
TZOFFSETFROM:+0100
TZOFFSETTO:+0200
TZNAME:CEST
END:DAYLIGHT
END:VTIMEZONE
END:VCALENDAR