
BEGIN:VCALENDAR
VERSION:2.0
PRODID:-//wp-events-plugin.com//6.6.3//EN
TZID:Europe/Berlin
X-WR-TIMEZONE:Europe/Berlin
BEGIN:VEVENT
UID:0-901@veranstaltungen.muenchen.de
DTSTART;TZID=Europe/Berlin:20260318T083000
DTEND;TZID=Europe/Berlin:20260318T163000
DTSTAMP:20260219T082916Z
URL:https://veranstaltungen.muenchen.de/por/veranstaltungen/gbupsych/
SUMMARY:Workshop-Tag zum Thema Gefährdungsbeurteilung mit Schwerpunkt psyc
 hische Belastungen
DESCRIPTION:Die Gefährdungsbeurteilung ist gemäß § 5 Arbeitsschutzgeset
 z (ArbSchG) eine gesetzliche Verpflichtung für alle Arbeitgeber.\n\n&nbsp
 \;\n\nIm Workshop erhalten Sie einen praxisnahen Einblick in die Gefährdu
 ngsbeurteilung mit Schwerpunkt psychischer Belastungen\, beleuchten aktuel
 le Anforderungen und tauschen sich zu Herausforderungen\, Erfahrungen sowi
 e bewährten Praxisbeispielen aus.
CATEGORIES:Gesundheitsangebote
END:VEVENT
BEGIN:VTIMEZONE
TZID:Europe/Berlin
X-LIC-LOCATION:Europe/Berlin
BEGIN:STANDARD
DTSTART:20251026T020000
TZOFFSETFROM:+0200
TZOFFSETTO:+0100
TZNAME:CET
END:STANDARD
END:VTIMEZONE
END:VCALENDAR