
BEGIN:VCALENDAR
VERSION:2.0
PRODID:-//wp-events-plugin.com//6.6.3//EN
TZID:Europe/Berlin
X-WR-TIMEZONE:Europe/Berlin
BEGIN:VEVENT
UID:0-328@veranstaltungen.muenchen.de
DTSTART;TZID=Europe/Berlin:20190924T093000
DTEND;TZID=Europe/Berlin:20190924T130000
DTSTAMP:20190911T140518Z
URL:https://veranstaltungen.muenchen.de/por/veranstaltungen/alternsgerecht
 es-arbeiten/
SUMMARY:"Alternsgerechtes Arbeiten in Zeiten der Digitalisierung"
DESCRIPTION:\n\nGesundheitsförderliche\, alternsgerechte und lebensphaseno
 rientierte Arbeits(zeit)gestaltung sowie eine entsprechende Führungskultu
 r sind die wichtigsten Antworten auf den demografischen Wandel. Wichtig is
 t\, dass möglichst viele Beschäftigte gesund und motiviert bis zum Errei
 chen des Rentenalters arbeiten können\, wollen und dürfen.\n\n&nbsp\;\n\
 nUm den Herausforderungen einer älter werdenden Belegschaft zu begegnen\,
  wollen wir das Thema „Erhalt der Arbeitsfähigkeit bis zur Rente/Pensio
 n“ mit Ihnen gemeinsam weiter entwickeln und Ihre konkreten Handlungsbed
 arfe identifizieren!\n\n&nbsp\;\n\nHerzlich eingeladen sind insbesondere a
 lle Geschäftsleitungen der Referate und Eigenbetriebe sowie Kolleginnen u
 nd Kollegen\, die dort für die Themen Demografie\, Gesundheit\, Arbeitssc
 hutz zuständig sind\, BGM-Koordinatorinnen- und Koordinatoren\, Teilnehme
 nde der Multiplikatorenschulung „Alternsgerechte Berufsverläufe“\, de
 r Gesamtpersonalrat sowie Vertreterinnen und Vertreter der Referatspersona
 lräte und Personalräte der Eigenbetriebe\, Gleichstellungsstelle für Fr
 auen und Gesamtschwerbehindertenvertretung.\n\n&nbsp\;\n\nSollten in Ihrem
  Bereich weitere Personen mit der Thematik Gesundheit und Demografie befas
 st sein\, bitten wir\, die Einladung entsprechend weiterzuleiten.\n\n&nbsp
 \;\n\nDurch die Anmeldung zur Veranstaltung erklären Sie sich einverstand
 en\, dass Fotos/ Video- oder Audiomitschnitte für die spätere Dokumentat
 ion oder Ähnliches verwendet werden dürfen.\n\n&nbsp\;\n\n&nbsp\;
LOCATION:Stiftung Literaturhaus München\, Räume: Saal & Foyer (3.OG)\, Sa
 lvatorplatz 1\, München\, Bayern\, 80333\, Deutschland
GEO:48.1418025;11.5748692
X-APPLE-STRUCTURED-LOCATION;VALUE=URI;X-ADDRESS=Salvatorplatz 1\, München\
 , Bayern\, 80333\, Deutschland;X-APPLE-RADIUS=100;X-TITLE=Stiftung Literat
 urhaus München\, Räume: Saal & Foyer (3.OG):geo:48.1418025,11.5748692
END:VEVENT
BEGIN:VTIMEZONE
TZID:Europe/Berlin
X-LIC-LOCATION:Europe/Berlin
BEGIN:DAYLIGHT
DTSTART:20190331T030000
TZOFFSETFROM:+0100
TZOFFSETTO:+0200
TZNAME:CEST
END:DAYLIGHT
END:VTIMEZONE
END:VCALENDAR