
BEGIN:VCALENDAR
VERSION:2.0
PRODID:-//wp-events-plugin.com//6.6.3//EN
TZID:Europe/Berlin
X-WR-TIMEZONE:Europe/Berlin
BEGIN:VEVENT
UID:0-619@veranstaltungen.muenchen.de
DTSTART;TZID=Europe/Berlin:20230309T160000
DTEND;TZID=Europe/Berlin:20230309T164500
DTSTAMP:20230214T103249Z
URL:https://veranstaltungen.muenchen.de/por/veranstaltungen/50plus/
SUMMARY:50plus für alle
DESCRIPTION:Das Lebensjahrzehnt ab 50 erscheint von Außen oft klischeehaft
  angenehm: Die Kinder sind aus dem Haus\, die Karriere ist gemacht und am 
 fernen Horizont winkt bereits der Ruhestand. Doch gerade aus diesen Gründ
 en birgt dieses Lebensjahrzehnt einige Herausforderungen...\n\nIn einem ku
 rzen Inputvortrag der Psychosozialen Beratungsstelle erhalten Sie Informat
 ionen über die Themen dieses Lebensabschnitts und danach besteht die Mög
 lichkeit zum Austausch. Interessierte jeden Alters sind herzlich willkomme
 n!\n\nDozent: Thomas Rölle\, POR\, Psychosoziale Beratungsstelle\n\nWicht
 ig! Den Webex Link erhalten Sie direkt mit der Anmeldebestätigung!
CATEGORIES:Gesundheitsangebote
END:VEVENT
BEGIN:VTIMEZONE
TZID:Europe/Berlin
X-LIC-LOCATION:Europe/Berlin
BEGIN:STANDARD
DTSTART:20221030T020000
TZOFFSETFROM:+0200
TZOFFSETTO:+0100
TZNAME:CET
END:STANDARD
END:VTIMEZONE
END:VCALENDAR