
BEGIN:VCALENDAR
VERSION:2.0
PRODID:-//wp-events-plugin.com//6.6.3//EN
TZID:Europe/Berlin
X-WR-TIMEZONE:Europe/Berlin
BEGIN:VEVENT
UID:0-925@veranstaltungen.muenchen.de
DTSTART;TZID=Europe/Berlin:20260617T110000
DTEND;TZID=Europe/Berlin:20260617T130000
DTSTAMP:20260330T083135Z
URL:https://veranstaltungen.muenchen.de/por/veranstaltungen/20260617_recru
 iting_connect2/
SUMMARY:Recruiting Connect – Tag der offenen Tür
DESCRIPTION:
LOCATION:Kustermannpark | 10. Etage – Recruiting-Lounge\, Rosenheimer Str
 aße 118\, München\, Bayern\, 81669\, Deutschland
GEO:48.123253;11.599762
X-APPLE-STRUCTURED-LOCATION;VALUE=URI;X-ADDRESS=Rosenheimer Straße 118\, M
 ünchen\, Bayern\, 81669\, Deutschland;X-APPLE-RADIUS=100;X-TITLE=Kusterma
 nnpark | 10. Etage – Recruiting-Lounge:geo:48.123253,11.599762
END:VEVENT
BEGIN:VTIMEZONE
TZID:Europe/Berlin
X-LIC-LOCATION:Europe/Berlin
BEGIN:DAYLIGHT
DTSTART:20260329T030000
TZOFFSETFROM:+0100
TZOFFSETTO:+0200
TZNAME:CEST
END:DAYLIGHT
END:VTIMEZONE
END:VCALENDAR