
BEGIN:VCALENDAR
VERSION:2.0
PRODID:-//wp-events-plugin.com//6.6.3//EN
TZID:Europe/Berlin
X-WR-TIMEZONE:Europe/Berlin
BEGIN:VEVENT
UID:0-794@veranstaltungen.muenchen.de
DTSTART;TZID=Europe/Berlin:20250116T103000
DTEND;TZID=Europe/Berlin:20250116T120000
DTSTAMP:20241120T124501Z
URL:https://veranstaltungen.muenchen.de/por/veranstaltungen/20250116_dv-fa
 ir-tag_situationen_ansprechen/
SUMMARY:DV-Fair Tag: Herausfordernde Situationen konstruktiv ansprechen
DESCRIPTION:In diesem Workshop sprechen wir über hilfreiche Tipps zum Umga
 ng mit Konflikten. Wir stellen Ihnen den Konfliktnavigator\, ein Werkzeug 
 zur Selbstreflexion\, vor und arbeiten mit der SAG ES Methode zum Ansprech
 en von schwierigen Situationen.\n\n&nbsp\;\n\nRedner*innen:\nBarbara Gött
 linger und Sonja Pappenberger\, Zentrale Stelle für Mediation und Konflik
 tmanagement
LOCATION:AFZ – Raum 12.102\, Ruppertstraße 11\, München\, Deutschland
X-APPLE-STRUCTURED-LOCATION;VALUE=URI;X-ADDRESS=Ruppertstraße 11\, Münche
 n\, Deutschland;X-APPLE-RADIUS=100;X-TITLE=AFZ – Raum 12.102:geo:0,0
END:VEVENT
BEGIN:VTIMEZONE
TZID:Europe/Berlin
X-LIC-LOCATION:Europe/Berlin
BEGIN:STANDARD
DTSTART:20241027T020000
TZOFFSETFROM:+0200
TZOFFSETTO:+0100
TZNAME:CET
END:STANDARD
END:VTIMEZONE
END:VCALENDAR