
BEGIN:VCALENDAR
VERSION:2.0
PRODID:-//wp-events-plugin.com//6.6.3//EN
TZID:Europe/Berlin
X-WR-TIMEZONE:Europe/Berlin
BEGIN:VEVENT
UID:0-302@veranstaltungen.muenchen.de
DTSTART;TZID=Europe/Berlin:20240411T180000
DTEND;TZID=Europe/Berlin:20240411T200000
DTSTAMP:20240410T141055Z
URL:https://veranstaltungen.muenchen.de/plan/veranstaltungen/wohnen-in-mue
 nchen-das-wohnungspolitische-handlungsprogramm-2/
SUMMARY:Wohnen in München - Das wohnungspolitische Handlungsprogramm
DESCRIPTION:[caption id="attachment_1194" align="alignnone" width="855"] Ge
 nossenschaftliches Wohnen Renatastraße\, Auszeichnung: Ehrenpreis für gu
 ten Wohnungsbau\, Sonderpreis für Soziale Vermieter*innen\, Architekten: 
 bogevischs buero\,  Copyright: Julia Knop[/caption]\n\n&nbsp\;\n\nInsgesa
 mt zwei Milliarden Euro stellt die Stadt für das aktuelle wohnungspolitis
 che Handlungsprogramm „Wohnen in München VII“ zur Verfügung. Wir zei
 gen anhand vielfältiger Projekte der Münchner Wohnen und den Münchner G
 enossenschaften die Konzepte für die Quartiere der Zukunft. Wie können w
 ir attraktive Orte schaffen\, in denen sich Wohnen und Freiräume mit Eink
 aufen\, Kinderbetreuung und Vielfalt auf zukunftsfähige Weise miteinander
  verbinden? Was hat es mit der „Münchner Mischung“ auf sich? Und was 
 verbirgt sich hinter dem Queer-Quartier an der Theresienhöhe? Dies und me
 hr erfahren Sie in spannenden Impulsen!\n\n&nbsp\;\n\nReferent*innen:\n•
  Sandra Marko\, Baugenossenschaft München von 1871 eG\n• Ariane Groß\,
  GIMA München eG\n• Ole Beiswenger\, Münchner Wohnen\n\n&nbsp\;\n\nDie
  Veranstaltung findet im Rahmen der Ausstellung „Innenstadt weiterdenken
 !“ statt. Die Ausstellung zur Münchner Innenstadt ist ab 5. März bis 2
 7. Juni\, Dienstag bis Freitag von 12 bis 18 Uhr geöffnet.\n\n&nbsp\;\n\n
 Weitere Informationen zum Handlungsraumkonzept für die Münchner Innensta
 dt finden Sie unter muenchen.de/innenstadt\n\n&nbsp\;\n\n&nbsp\;\n\nHinwei
 s: Der Eintritt ist frei. Der PlanTreff ist rollstuhlgerecht zugänglich\,
  eine barrierefreie Toilette ist vorhanden.\n\n&nbsp\;\n\nAnmeldung: Die T
 eilnehmerzahl ist begrenzt.
CATEGORIES:Innenstadt weiterdenken!,PlanTreff-Programm
LOCATION:PlanTreff\, Blumenstraße 31\, München\, Deutschland
GEO:48.131599;11.570085
X-APPLE-STRUCTURED-LOCATION;VALUE=URI;X-ADDRESS=Blumenstraße 31\, München
 \, Deutschland;X-APPLE-RADIUS=100;X-TITLE=PlanTreff:geo:48.131599,11.57008
 5
END:VEVENT
BEGIN:VTIMEZONE
TZID:Europe/Berlin
X-LIC-LOCATION:Europe/Berlin
BEGIN:DAYLIGHT
DTSTART:20240331T030000
TZOFFSETFROM:+0100
TZOFFSETTO:+0200
TZNAME:CEST
END:DAYLIGHT
END:VTIMEZONE
END:VCALENDAR