
BEGIN:VCALENDAR
VERSION:2.0
PRODID:-//wp-events-plugin.com//6.6.3//EN
TZID:Europe/Berlin
X-WR-TIMEZONE:Europe/Berlin
BEGIN:VEVENT
UID:0-133@veranstaltungen.muenchen.de
DTSTART;TZID=Europe/Berlin:20211007T163000
DTEND;TZID=Europe/Berlin:20211007T190000
DTSTAMP:20210930T083536Z
URL:https://veranstaltungen.muenchen.de/plan/veranstaltungen/stadtspazierg
 ang-blickpunkt-hochhaus/
SUMMARY:Stadtspaziergang: Blickpunkt Hochhaus
DESCRIPTION:[caption id="attachment_500" align="alignnone" width="800"] © 
 LHM / Nagy[/caption]\nHochhäuser fallen auf – nicht nur in der Stadtsil
 houette\, sondern auch in der gesellschaftlichen Diskussion. Der Spazierga
 ng „Blickpunkt Hochhaus“ ist Teil des Dialogs „Hoch hinaus?“ zur F
 ortschreibung der Münchner Hochhausstudie. Der Spaziergang startet im Pla
 nTreff in der Blumenstraße 31 mit Blick auf Münchens erstes Hochhaus\, d
 as „Alte Technischen Rathaus“ von 1929. Dort gibt es eine allgemeine E
 inführung zum Thema Hochhäuser. Vom PlanTreff geht es weiter zum Stadtmu
 seum\, wo anhand eines Stadtmodells die Höhenentwicklung der Stadt sichtb
 ar wird. Anschließend führt der Spaziergang durch die Altstadt\, wo die 
 Höhenentwicklung vor Ort erläutert und auf wichtige Blickbeziehungen ver
 wiesen wird. Die Tour endet auf dem Dach des Hochhauses „The Seven“ mi
 t einem atemberaubenden Blick von oben auf die Landeshauptstadt.\n&nbsp\;\
 n\nReferent:\n\n 	Alexander Bock (Referat für Stadtplanung und Bauordnung
 )\n\n&nbsp\;\n\nHinweis: Die Tour findet mit Audioguides statt. In allen I
 nnenräumen gilt die 3-G-Regel\, der Abstand von 1\,5 Metern muss eingehal
 ten und es muss eine medizinische Maske getragen werden. Eine Maskenpflich
 t besteht draußen nicht.\n\n&nbsp\;\n\nAnmeldung: Eine Anmeldung ist ab d
 em 30. September möglich. Die Tour startet beim PlanTreff in der Blumenst
 raße 31.\n\n\nDatenschutz: Bitte beachten Sie unsere Hinweise zum Datensc
 hutz (PDF\, 51 KB).
CATEGORIES:Stadtspaziergänge: PlanTreff vor Ort
LOCATION:PlanTreff\, Blumenstraße 31\, München\, Bayern\, 80331\, Deutsch
 land
GEO:48.1315991;11.5700839755317
X-APPLE-STRUCTURED-LOCATION;VALUE=URI;X-ADDRESS=Blumenstraße 31\, München
 \, Bayern\, 80331\, Deutschland;X-APPLE-RADIUS=100;X-TITLE=PlanTreff:geo:4
 8.1315991,11.5700839755317
END:VEVENT
BEGIN:VTIMEZONE
TZID:Europe/Berlin
X-LIC-LOCATION:Europe/Berlin
BEGIN:DAYLIGHT
DTSTART:20210328T030000
TZOFFSETFROM:+0100
TZOFFSETTO:+0200
TZNAME:CEST
END:DAYLIGHT
END:VTIMEZONE
END:VCALENDAR