
BEGIN:VCALENDAR
VERSION:2.0
PRODID:-//wp-events-plugin.com//6.6.3//EN
TZID:Europe/Berlin
X-WR-TIMEZONE:Europe/Berlin
BEGIN:VEVENT
UID:0-435@veranstaltungen.muenchen.de
DTSTART;TZID=Europe/Berlin:20251014T180000
DTEND;TZID=Europe/Berlin:20251014T200000
DTSTAMP:20251013T073340Z
URL:https://veranstaltungen.muenchen.de/plan/veranstaltungen/stadtentwickl
 ung-neu-denken/
SUMMARY:Stadtentwicklung neu denken
DESCRIPTION:\n\n&nbsp\;\n\nDigitale Methoden der Beteiligung\n\n\n&nbsp\;\n
 \nDie Teilhabe der Bürger*innen an Stadtentwicklung ist heute wichtiger d
 enn je. Wie können wir künstliche Intelligenz\, digitale Kommunikation u
 nd virtuelle Realitäten nutzen\, um innovative Ansätze dafür zu entwick
 eln?\n\n&nbsp\;\n\nDer PlanTreff im Austausch mit\nProf. Dr. Christof Wein
 hardt\, House of Participation\, Berlin:\n\n&nbsp\;\n\n„Gerade in den ak
 tuellen Zeiten sehe ich es sowohl wirtschaftlich als auch gesellschaftlich
  als dringend notwendig\, Menschen an wichtigen Entscheidungen teilhaben z
 u lassen – sei es am Arbeitsplatz\, im gesellschaftlichen Leben\, im Kul
 turbetrieb und vor allem auch in politischen Belangen. Deshalb müssen wir
  noch viel besser verstehen\, wie wir die Digitalisierung auch dafür eins
 etzen können. Wir nennen das Digital Citizen Participation."\n\n&nbsp\;\n
 \n&nbsp\;\n\nWeitere Informationen finden Sie unter muenchen.de/plantreff\
 n\n&nbsp\;\n\nHinweis: Der Eintritt ist frei. Der PlanTreff ist rollstuhlg
 erecht zugänglich\, eine barrierefreie Toilette ist vorhanden.\n\n&nbsp\;
 \n\nAnmeldung: Die Teilnehmerzahl ist begrenzt.
CATEGORIES:PlanTreff-Programm,Stadtentwicklung im Dialog
LOCATION:PlanTreff\, Blumenstraße 31\, München\, Deutschland
GEO:48.131599;11.570085
X-APPLE-STRUCTURED-LOCATION;VALUE=URI;X-ADDRESS=Blumenstraße 31\, München
 \, Deutschland;X-APPLE-RADIUS=100;X-TITLE=PlanTreff:geo:48.131599,11.57008
 5
END:VEVENT
BEGIN:VTIMEZONE
TZID:Europe/Berlin
X-LIC-LOCATION:Europe/Berlin
BEGIN:DAYLIGHT
DTSTART:20250330T030000
TZOFFSETFROM:+0100
TZOFFSETTO:+0200
TZNAME:CEST
END:DAYLIGHT
END:VTIMEZONE
END:VCALENDAR