
BEGIN:VCALENDAR
VERSION:2.0
PRODID:-//wp-events-plugin.com//6.6.3//EN
TZID:Europe/Berlin
X-WR-TIMEZONE:Europe/Berlin
BEGIN:VEVENT
UID:0-440@veranstaltungen.muenchen.de
DTSTART;TZID=Europe/Berlin:20251202T180000
DTEND;TZID=Europe/Berlin:20251202T200000
DTSTAMP:20251201T143109Z
URL:https://veranstaltungen.muenchen.de/plan/veranstaltungen/stadtentwickl
 ung-als-demokratischer-prozess/
SUMMARY:Stadtentwicklung als demokratischer Prozess
DESCRIPTION:\n\n&nbsp\;\n\nNeue Formen der Beteiligung\n\n\n&nbsp\;\n\nIn d
 er Stadtentwicklungsplanung ist es unerlässlich\, eine breite Vielfalt an
  Perspektiven und Meinungen zu berücksichtigen. Um dies zu erreichen\, ge
 winnen innovative Beteiligungsformate zunehmend an Bedeutung. Wie schaffen
  es diese Formate\, viele unterschiedliche Menschen anzusprechen? Diese Ve
 ranstaltung bietet die Möglichkeit\, sich mit den Chancen von Losverfahre
 n in Stadtentwicklungsprozessen auseinanderzusetzen. Wir diskutieren\, wel
 che Bedeutung neue Formen der Bürgerbeteiligung für unsere Demokratie ha
 ben und wie Politik\, Verwaltung und Bürgerschaft gemeinsam davon profiti
 eren.\n\n&nbsp\;\n\nDer PlanTreff im Austausch mit\nDr. Angela Jain von de
 r Bertelsmann Stiftung\, Gütersloh:\n\n&nbsp\;\n\n„Demokratie von morge
 n beginnt im Gespräch von heute. Demokratie lebt vom Dialog – über Fac
 hgrenzen\, Institutionen und vor allem Lebenswelten hinweg."\n\n&nbsp\;\n\
 n&nbsp\;\n\nWeitere Informationen finden Sie unter muenchen.de/plantreff\n
 \n&nbsp\;\n\nHinweis: Der Eintritt ist frei. Der PlanTreff ist rollstuhlge
 recht zugänglich\, eine barrierefreie Toilette ist vorhanden.\n\n&nbsp\;\
 n\nAnmeldung: Die Teilnehmerzahl ist begrenzt.
CATEGORIES:PlanTreff-Programm,Stadtentwicklung im Dialog
LOCATION:PlanTreff\, Blumenstraße 31\, München\, Deutschland
GEO:48.131599;11.570085
X-APPLE-STRUCTURED-LOCATION;VALUE=URI;X-ADDRESS=Blumenstraße 31\, München
 \, Deutschland;X-APPLE-RADIUS=100;X-TITLE=PlanTreff:geo:48.131599,11.57008
 5
END:VEVENT
BEGIN:VTIMEZONE
TZID:Europe/Berlin
X-LIC-LOCATION:Europe/Berlin
BEGIN:STANDARD
DTSTART:20251026T020000
TZOFFSETFROM:+0200
TZOFFSETTO:+0100
TZNAME:CET
END:STANDARD
END:VTIMEZONE
END:VCALENDAR