
BEGIN:VCALENDAR
VERSION:2.0
PRODID:-//wp-events-plugin.com//6.6.3//EN
TZID:Europe/Berlin
X-WR-TIMEZONE:Europe/Berlin
BEGIN:VEVENT
UID:0-459@veranstaltungen.muenchen.de
DTSTART;TZID=Europe/Berlin:20260226T163000
DTEND;TZID=Europe/Berlin:20260226T190000
DTSTAMP:20260211T150023Z
URL:https://veranstaltungen.muenchen.de/plan/veranstaltungen/spaziergang-s
 tadt-lebenswert/
SUMMARY:Spaziergang: Stadt lebenswert – von der Theresienhöhe ins Schlac
 hthofviertel
DESCRIPTION:\n© Tobias Hase\n&nbsp\;\n\n&nbsp\;\n\nBeim zweiten Stadtspazi
 ergang im Rahmen der Reihe „ON TOUR“ erkunden wir\, wie durch eine leb
 endige Mischung aus verschiedenen Wohnformen und Arbeitsplätzen die Stadt
  lebenswert gemacht werden kann.\n\n&nbsp\;\n\nUnsere Tour beginnt auf dem
  ehemaligen Messegelände auf der Theresienhöhe. Hier machen wir zunächs
 t Halt am MK6\, einem neuen Projekt der städtischen Wohnungsbaugesellscha
 ft „Münchner Wohnen“. Das Gebäude verbindet die Tradition großer Wo
 hnblöcke mit einem vielfältigen Angebot an Wohnformen und Nutzungen. Gan
 z in der Nähe befinden sich der „Bahndeckel“\, ein Quartiersplatz üb
 er den Bahngleisen\, sowie das neue Backhaus von Rischart\, wo man den Bä
 cker*innen und Konditor*innen durch die Glasfassade live beim Backen zusch
 auen kann. Über die „Piazza Zenetti“\, die für und mit der Nachbarsc
 haft umgewandelt wurde\, laufen wir zum Kulturzentrum LUISE. Durch das vie
 lfältige Programm leistet die LUISE einen wichtigen Beitrag für ein lebe
 ndiges Stadtquartier. Unsere Tour endet dort.\n\n&nbsp\;\n\n&nbsp\;\n\n&nb
 sp\;\n\n&nbsp\;\n\nReferentinnen und Referenten:\n\n 	Kerstin Oertel (Refe
 rat für Stadtplanung und Bauordnung\, Lokalbaukommission)\n 	Daniel Hock 
 (Kiessler Architekten)\n 	Anne Antrup (Kulturzentrum LUISE)\n\n&nbsp\;\n\n
 Moderation:\n\n 	Kai Meyer (Referat für Stadtplanung und Bauordnung\, Pla
 nTreff)\n 	Claudia Neeser (guiding architects munich)\n\n&nbsp\;\n\n&nbsp\
 ;\n\nAnmeldung: Eine Anmeldung ist ab dem 12. Februar möglich. Der genaue
  Treffpunkt wird bei erfolgreicher Anmeldung bekannt gegeben.\n\n\nDatensc
 hutz: Bitte beachten Sie unsere Hinweise zum Datenschutz (PDF\, 51 KB).\n\
 n\nFoto-Hinweis: Wir fotografieren und filmen bei den Veranstaltungen. Bi
 tte informieren Sie uns\, wenn Sie nicht möchten\, dass Bilder\, auf dene
 n Sie zu sehen sind\, veröffentlicht werden.
CATEGORIES:Stadtspaziergänge: PlanTreff vor Ort
END:VEVENT
BEGIN:VTIMEZONE
TZID:Europe/Berlin
X-LIC-LOCATION:Europe/Berlin
BEGIN:STANDARD
DTSTART:20251026T020000
TZOFFSETFROM:+0200
TZOFFSETTO:+0100
TZNAME:CET
END:STANDARD
END:VTIMEZONE
END:VCALENDAR