
BEGIN:VCALENDAR
VERSION:2.0
PRODID:-//wp-events-plugin.com//6.6.3//EN
TZID:Europe/Berlin
X-WR-TIMEZONE:Europe/Berlin
BEGIN:VEVENT
UID:0-458@veranstaltungen.muenchen.de
DTSTART;TZID=Europe/Berlin:20260211T163000
DTEND;TZID=Europe/Berlin:20260211T190000
DTSTAMP:20260211T145551Z
URL:https://veranstaltungen.muenchen.de/plan/veranstaltungen/spaziergang-s
 tadt-innovativ/
SUMMARY:Spaziergang: Stadt innovativ – rund um das Kreativquartier
DESCRIPTION:\n© Munich Urban Colab - Bert Willer\n&nbsp\;\n\n&nbsp\;\n\nBe
 im ersten Stadtspaziergang im Rahmen der Reihe „ON TOUR“ erkunden wir\
 , wie Urbanität von morgen gestaltet werden kann und was das Kreativquart
 ier auf dem Gelände der ehemaligen Luitpoldkaserne so besonders macht.\n\
 n&nbsp\;\n\nUnsere Tour beginnt im Teilbereich „Kreativlabor“\, wo Kul
 tur und Kunst auf Wohnen und Kreativwirtschaft trifft. Weiter geht es zum 
 „Kreativfeld“. Neben einer Grundschule entstehen hier rund 385 genosse
 nschaftliche und geförderte Wohnungen in einem grünen Umfeld. Wir machen
  Halt beim innovativen Projekt „Das große kleine Haus“ und laufen ans
 chließend zur „Kreativplattform“\, wo bis 2030 etwa 340 Werkswohnunge
 n entstehen werden. Über den Campus Nord der Hochschule München erreiche
 n wir den „Kreativpark“\, den zentralen öffentlichen Grünraum des Qu
 artiers. Er verbindet die Heß- mit der Dachauer Straße und beherbergt da
 s Gründer- und Innovationszentrum „Munich Urban Colab“.\n\n&nbsp\;\n\
 n&nbsp\;\n\n&nbsp\;\n\nReferentinnen und Referenten:\n\n 	Henrik Bauer (Re
 ferat für Stadtplanung und Bauordnung)\n 	Martin Aichner (Aichner Kazzer 
 Architekten)\n 	Tamy Saurer (Referat für Arbeit und Wirtschaft\, Munich U
 rban Colab)\n\n&nbsp\;\n\nModeration:\n\n 	Kai Meyer (Referat für Stadtpl
 anung und Bauordnung\, PlanTreff)\n 	Claudia Neeser (guiding architects mu
 nich)\n\n&nbsp\;\n\n&nbsp\;\n\n&nbsp\;\n\nWichtiger Hinweis: Bitte beachte
 n Sie\, dass für Mittwoch\, 11. Februar ein ganztägiger Streik der MVG (
 Münchner Verkehrsgesellschaft) angekündigt ist. Betroffen sind voraussic
 htlich U-Bahn\, Tram und Bus bis zur Liniennummer 199. Wir bitten Sie\, si
 ch gegebenenfalls auf eine längere und alternative Anfahrt vorzubereiten.
  Sollten Sie an dem Spaziergang nicht teilnehmen können\, bitten wir um e
 ine Absage.\n\n&nbsp\;\n\nAnmeldung: Eine Anmeldung ist ab dem 4. Februar 
 möglich. Der genaue Treffpunkt wird bei erfolgreicher Anmeldung bekannt g
 egeben.\n\n\nDatenschutz: Bitte beachten Sie unsere Hinweise zum Datenschu
 tz (PDF\, 51 KB).\n\n&nbsp\;\n\nFoto-Hinweis: Wir fotografieren und filme
 n bei den Veranstaltungen. Bitte informieren Sie uns\, wenn Sie nicht möc
 hten\, dass Bilder\, auf denen Sie zu sehen sind\, veröffentlicht werden.
CATEGORIES:Stadtspaziergänge: PlanTreff vor Ort
END:VEVENT
BEGIN:VTIMEZONE
TZID:Europe/Berlin
X-LIC-LOCATION:Europe/Berlin
BEGIN:STANDARD
DTSTART:20251026T020000
TZOFFSETFROM:+0200
TZOFFSETTO:+0100
TZNAME:CET
END:STANDARD
END:VTIMEZONE
END:VCALENDAR