
BEGIN:VCALENDAR
VERSION:2.0
PRODID:-//wp-events-plugin.com//6.6.3//EN
TZID:Europe/Berlin
X-WR-TIMEZONE:Europe/Berlin
BEGIN:VEVENT
UID:0-108@veranstaltungen.muenchen.de
DTSTART;TZID=Europe/Berlin:20210430T160000
DTEND;TZID=Europe/Berlin:20210430T171500
DTSTAMP:20210416T124936Z
URL:https://veranstaltungen.muenchen.de/plan/veranstaltungen/projekte-entl
 ang-der-tram-23/
SUMMARY:Digitaler Stadtspaziergang: Projekte entlang der Tram 23
DESCRIPTION:[caption id="attachment_440" align="alignnone" width="800"] © 
 Claudia Neeser[/caption]\n\nWie kann städtisches Wohnen und Arbeiten in Q
 uartieren der Zukunft aussehen? Diese Frage wird auf dem Stadtspaziergang 
 erörtert. Das neue Stadtquartier „Schwabinger Tor“ wurde autofrei gep
 lant und zeichnet sich durch wohlproportionierte Räume mit schönen Plät
 zen sowie spannender Architektur für eine durchdachte Mischung aus Wohnen
  und Arbeiten aus. An der Endstation der Tram 23 beginnt der Domagkpark. D
 as Gebiet der ehemaligen Funkkaserne ist bekannt für das gemeinschaftlich
 e und nachhaltige Bauen sowie alternative Mobilitätsangebote und eine arc
 hitektonische Vielfalt.\n\n&nbsp\;\n\nReferenten:\n\n 	Marc Hofmann (03 Ar
 chitekten) zum Schwabinger Tor\n 	Stefan Synek (Mobilitätsreferat) zum Do
 magkpark\n\n&nbsp\;\n\nDie Veranstaltung findet in Zusammenarbeit mit der 
 Münchner Volkshochschule statt.\n\n&nbsp\;\n\nAnmeldung: Eine Anmeldung i
 st ab dem 16. April möglich.\nBei erfolgreicher Anmeldung erhalten Sie de
 n Link zur Web-Konferenz sowie eine Anleitung zur Technik.\n\nDatenschutz:
  Bitte beachten Sie unsere Hinweise zum Datenschutz (PDF\, 51 KB).\n\nBei 
 der Veranstaltung gelten unsere Dialogregeln.
CATEGORIES:Stadtspaziergänge: PlanTreff vor Ort
END:VEVENT
BEGIN:VTIMEZONE
TZID:Europe/Berlin
X-LIC-LOCATION:Europe/Berlin
BEGIN:DAYLIGHT
DTSTART:20210328T030000
TZOFFSETFROM:+0100
TZOFFSETTO:+0200
TZNAME:CEST
END:DAYLIGHT
END:VTIMEZONE
END:VCALENDAR