
BEGIN:VCALENDAR
VERSION:2.0
PRODID:-//wp-events-plugin.com//6.6.3//EN
TZID:Europe/Berlin
X-WR-TIMEZONE:Europe/Berlin
BEGIN:VEVENT
UID:0-219@veranstaltungen.muenchen.de
DTSTART;TZID=Europe/Berlin:20221207T170000
DTEND;TZID=Europe/Berlin:20221207T190000
DTSTAMP:20221207T083343Z
URL:https://veranstaltungen.muenchen.de/plan/veranstaltungen/plantreff-vor
 -ort-das-neue-gruene-giesing/
SUMMARY:+++Ausgebucht+++PlanTreff vor Ort: Das neue grüne Giesing
DESCRIPTION:[caption id="attachment_856" align="alignnone" width="1280"] ©
 Edward Beierle/MGS[/caption]\n\nBei unserer 100. PlanTreff vor Ort Jubilä
 umstour schauen wir in den Münchner Stadtteil Giesing\, der als Arbeiterv
 iertel mit großen Einfallstraßen\, Industrie- und Gewerbeflächen\, aber
  auch durch Fußball und ein starkes Zugehörigkeitsgefühl seiner Bewohne
 r*innen geprägt ist. In den letzten Jahren hat Giesing sein Gesicht durch
  einige Baumaßnahmen\, aber auch durch Quartiersentwicklungen und ambitio
 nierter Freiflächenprojekte verändert. So ist zum Beispiel der „Giesin
 ger Grünspitz“ seit Mitte 2014 in öffentlicher Hand und wurde im Rahme
 n des Programms „Soziale Stadt“ als ein Beteiligungsprojekt entwickelt
 . Als 2008 das Agfa-Hochhaus gesprengt wurde\, entstand Platz für ein neu
 es Quartier\, dem „Agfa-Park“ . Die geschaffenen Grünflächen laden z
 um Aufenthalt ein und verknüpfen die neue Adresse mit ihrer unmittelbaren
  Umgebung\, wie dem Weißenseepark und die Stockwerksiedlung rund um den W
 alchenseeplatz\n\n&nbsp\;\n\nReferent*innen:\n\n 	Rita Lex-Kerfers (Landsc
 haftsarchitekten und Stadtplaner BDLA)\n 	Ulrich Riedel (Referat für Stad
 tplanung und Bauordnung)\n\n&nbsp\;\n\nModeration:\n\n 	Johanna Stich\, Pl
 anTreff\n 	Claudia Neeser\, guiding architects munich\n\n&nbsp\;\n\nHinwei
 s: Die Tour findet unter Einhaltung der geltenden Hygieneregeln mit Audiog
 uides statt. Der Abstand von 1\,5 Metern muss eingehalten werden. Eine Mas
 kenpflicht besteht draußen nicht. In den Räumen des PlanTreffs muss eine
  FFP2-Maske getragen werden.\n\n&nbsp\;\n\nAnmeldung: Eine Anmeldung ist a
 b dem 30.November möglich. Der genaue Treffpunkt wird bei erfolgreicher A
 nmeldung bekannt gegeben.\n\n\nDatenschutz: Bitte beachten Sie unsere Hinw
 eise zum Datenschutz (PDF\, 51 KB).
CATEGORIES:Stadtspaziergänge: PlanTreff vor Ort
END:VEVENT
BEGIN:VTIMEZONE
TZID:Europe/Berlin
X-LIC-LOCATION:Europe/Berlin
BEGIN:STANDARD
DTSTART:20221030T020000
TZOFFSETFROM:+0200
TZOFFSETTO:+0100
TZNAME:CET
END:STANDARD
END:VTIMEZONE
END:VCALENDAR