
BEGIN:VCALENDAR
VERSION:2.0
PRODID:-//wp-events-plugin.com//6.6.3//EN
TZID:Europe/Berlin
X-WR-TIMEZONE:Europe/Berlin
BEGIN:VEVENT
UID:0-456@veranstaltungen.muenchen.de
DTSTART;TZID=Europe/Berlin:20260303T180000
DTEND;TZID=Europe/Berlin:20260303T200000
DTSTAMP:20260302T121437Z
URL:https://veranstaltungen.muenchen.de/plan/veranstaltungen/ontour-stadtu
 mbauen/
SUMMARY:Veranstaltungsreihe ON TOUR: Stadt umbauen
DESCRIPTION:\n\nStadt umbauen\nStadtbibliothek HP8\n\nDienstag\, 3. März\,
  18 Uhr\,\nHans-Preißinger-Straße 8\n\n&nbsp\;\n\nKreative Nutzungen und
  eine neue Umbaukultur verwandeln Bestandsgebäude in Begegnungsorte\, die
  vieles können und nachhaltig sind. Welche Potenziale bietet München\, u
 m das\, was schon da ist\, neu zu denken?\n\n&nbsp\;\n\n 	Gastgeberin und 
 Begrüßung: Stadtbaurätin Prof. Dr. (Univ. Florenz) Elisabeth Merk\n 	Di
 skussion:\nDr. Arne Ackermann\, Leitung Münchner Stadtbibliothek\nMarle
 ne Franck\, Hans Sauer Stiftung\nProf. Dr. Rudolf Hierl\, Hierl Architek
 ten\n 	Abschluss der Veranstaltungsreihe mit Stadtbaurätin Elisabeth Me
 rk\n\n&nbsp\;\n\nIm Anschluss: Tour-Ausklang\n\n&nbsp\;\n\nHinweis: Der Ei
 ntritt ist frei. Informationen zur Barrierefreiheit finden Sie hier.\n\n&n
 bsp\;\n\nAnmeldung: Die Teilnehmerzahl ist begrenzt.\n\n&nbsp\;\n\nFührun
 g: Um 17 Uhr findet eine Führung durch das HP8 statt. Eine separate Anmel
 dung hier ist erforderlich.\n\n&nbsp\;\n\nFoto-Hinweis: Wir fotografieren
  und filmen bei den Veranstaltungen. Bitte informieren Sie uns\, wenn Sie 
 nicht möchten\, dass Bilder\, auf denen Sie zu sehen sind\, veröffentlic
 ht werden.\n\n&nbsp\;\n\nBildnachweis: Benedikt Feiten / Gasteig
CATEGORIES:ON TOUR. Zukunft findet Stadt
LOCATION:HP8\, Hans-Preißinger-Straße 8\, \, München\, Bayern\, 81379 \,
  Deutschland
GEO:48.111448;11.554188
X-APPLE-STRUCTURED-LOCATION;VALUE=URI;X-ADDRESS=Hans-Preißinger-Straße 8\
 , \, München\, Bayern\, 81379 \, Deutschland;X-APPLE-RADIUS=100;X-TITLE=H
 P8:geo:48.111448,11.554188
END:VEVENT
BEGIN:VTIMEZONE
TZID:Europe/Berlin
X-LIC-LOCATION:Europe/Berlin
BEGIN:STANDARD
DTSTART:20251026T020000
TZOFFSETFROM:+0200
TZOFFSETTO:+0100
TZNAME:CET
END:STANDARD
END:VTIMEZONE
END:VCALENDAR