
BEGIN:VCALENDAR
VERSION:2.0
PRODID:-//wp-events-plugin.com//6.6.3//EN
TZID:Europe/Berlin
X-WR-TIMEZONE:Europe/Berlin
BEGIN:VEVENT
UID:0-450@veranstaltungen.muenchen.de
DTSTART;TZID=Europe/Berlin:20260212T180000
DTEND;TZID=Europe/Berlin:20260212T200000
DTSTAMP:20260211T145812Z
URL:https://veranstaltungen.muenchen.de/plan/veranstaltungen/ontour-stadti
 nnovativ/
SUMMARY:Veranstaltungsreihe ON TOUR: Stadt innovativ
DESCRIPTION:\n\nStadt innovativ\nMunich Urban Colab\n\nDonnerstag\, 12. Feb
 ruar\, 18 Uhr\,\nFreddie-Mercury-Straße 5\n\n&nbsp\;\n\nInnovation ist en
 tscheidend für die zukunftsfähige Stadt – sie braucht neue digitale
  Tools\, kluge Köpfe und kreative Räume. Verschiedene Akteur*innen ze
 igen\, wie Urbanität von Morgen gestaltet werden kann.\n\n&nbsp\;\n\n 	
 Gastgeberin und Begrüßung: Stadtbaurätin Prof. Dr. (Univ. Florenz) Elis
 abeth Merk\n 	Kurzvorträge und Diskussion:\nProf. Dr.-Ing. Vanessa Bork
 mann\, Fraunhofer IAO\nJohannes Ernst\, Steidle Architekten\nClaudia Frey
 \, Geschäftsführerin Munich Urban Colab\nClemens Lindner\, Zaha Hadid
  Architects\nDr. Magnus Strobel\, Nexus Politics\n\n&nbsp\;\n\nHinweis: D
 er Eintritt ist frei. Informationen zur Barrierefreiheit finden Sie hier.\
 n\n&nbsp\;\n\nAnmeldung: Die Teilnehmerzahl ist begrenzt.\n\n&nbsp\;\n\nF
 ührung: Um 17 Uhr findet eine Führung durch das Munich Urban Colab statt
 . Eine separate Anmeldung hier ist erforderlich.\n\n&nbsp\;\n\nFoto-Hinwei
 s: Wir fotografieren und filmen bei den Veranstaltungen. Bitte informiere
 n Sie uns\, wenn Sie nicht möchten\, dass Bilder\, auf denen Sie zu sehen
  sind\, veröffentlicht werden.\n\n&nbsp\;\n\nBildnachweis: Tobias Hase
CATEGORIES:ON TOUR. Zukunft findet Stadt
LOCATION:Munich Urban Colab\, Freddie-Mercury-Straße 5\, München\, Bayern
 \, 80797\, Deutschland
GEO:48.157175;11.551335
X-APPLE-STRUCTURED-LOCATION;VALUE=URI;X-ADDRESS=Freddie-Mercury-Straße 5\,
  München\, Bayern\, 80797\, Deutschland;X-APPLE-RADIUS=100;X-TITLE=Munich
  Urban Colab:geo:48.157175,11.551335
END:VEVENT
BEGIN:VTIMEZONE
TZID:Europe/Berlin
X-LIC-LOCATION:Europe/Berlin
BEGIN:STANDARD
DTSTART:20251026T020000
TZOFFSETFROM:+0200
TZOFFSETTO:+0100
TZNAME:CET
END:STANDARD
END:VTIMEZONE
END:VCALENDAR