
BEGIN:VCALENDAR
VERSION:2.0
PRODID:-//wp-events-plugin.com//6.6.3//EN
TZID:Europe/Berlin
X-WR-TIMEZONE:Europe/Berlin
BEGIN:VEVENT
UID:0-451@veranstaltungen.muenchen.de
DTSTART;TZID=Europe/Berlin:20260212T170000
DTEND;TZID=Europe/Berlin:20260212T173000
DTSTAMP:20260211T145658Z
URL:https://veranstaltungen.muenchen.de/plan/veranstaltungen/ontour-fuehru
 ng-munichurbancolab/
SUMMARY:Veranstaltungsreihe ON TOUR: Führung Munich Urban Colab
DESCRIPTION:\n\n&nbsp\;\n\n&nbsp\;\n\nVor der Veranstaltung "Stadt innovati
 v" am 12. Februar 2026 findet um 17 Uhr eine Führung durch das Munich Urb
 an Colab statt.\n\n&nbsp\;\n\nReferenten: Team Munich Urban Colab\, steidl
 e architekten\n\n&nbsp\;\n\nTreffpunkt: Counter beim Eingang im Erdgeschos
 s\n\n&nbsp\;\n\nHinweis: Die Teilnahme ist kostenlos. Informationen zur Ba
 rrierefreiheit finden Sie hier.\n\n&nbsp\;\n\nAnmeldung: Die Teilnehmerzah
 l ist begrenzt.\n\n&nbsp\;\n\nFoto-Hinweis: Wir fotografieren und filmen 
 bei den Veranstaltungen. Bitte informieren Sie uns\, wenn Sie nicht möcht
 en\, dass Bilder\, auf denen Sie zu sehen sind\, veröffentlicht werden.\n
 \n&nbsp\;\n\nBildnachweis: Constantin Mirbach
CATEGORIES:ON TOUR. Zukunft findet Stadt
LOCATION:Munich Urban Colab\, Freddie-Mercury-Straße 5\, München\, Bayern
 \, 80797\, Deutschland
GEO:48.157175;11.551335
X-APPLE-STRUCTURED-LOCATION;VALUE=URI;X-ADDRESS=Freddie-Mercury-Straße 5\,
  München\, Bayern\, 80797\, Deutschland;X-APPLE-RADIUS=100;X-TITLE=Munich
  Urban Colab:geo:48.157175,11.551335
END:VEVENT
BEGIN:VTIMEZONE
TZID:Europe/Berlin
X-LIC-LOCATION:Europe/Berlin
BEGIN:STANDARD
DTSTART:20251026T020000
TZOFFSETFROM:+0200
TZOFFSETTO:+0100
TZNAME:CET
END:STANDARD
END:VTIMEZONE
END:VCALENDAR