
BEGIN:VCALENDAR
VERSION:2.0
PRODID:-//wp-events-plugin.com//6.6.3//EN
TZID:Europe/Berlin
X-WR-TIMEZONE:Europe/Berlin
BEGIN:VEVENT
UID:0-457@veranstaltungen.muenchen.de
DTSTART;TZID=Europe/Berlin:20260303T170000
DTEND;TZID=Europe/Berlin:20260303T173000
DTSTAMP:20260211T150054Z
URL:https://veranstaltungen.muenchen.de/plan/veranstaltungen/ontour-fuehru
 ng-hp8/
SUMMARY:Veranstaltungsreihe ON TOUR: Führung HP8
DESCRIPTION:\n\n&nbsp\;\n\n&nbsp\;\n\nVor der Veranstaltung "Stadt umbauen"
  am 3. März 2026 findet um 17 Uhr eine Führung durch das HP8 und die Mü
 nchner Stadtbibliothek statt.\n\n&nbsp\;\n\nReferenten: Team der Gasteig M
 ünchen GmbH und gmp Architekten\n\n&nbsp\;\n\nTreffpunkt: Eingang im Erdg
 eschoss\, Infoschalter in der Halle E\n\n&nbsp\;\n\nHinweis: Die Teilnahme
  ist kostenlos. Informationen zur Barrierefreiheit finden Sie hier.\n\n&nb
 sp\;\n\nAnmeldung: Die Teilnehmerzahl ist begrenzt.\n\n&nbsp\;\n\nFoto-Hin
 weis: Wir fotografieren und filmen bei den Veranstaltungen. Bitte informi
 eren Sie uns\, wenn Sie nicht möchten\, dass Bilder\, auf denen Sie zu se
 hen sind\, veröffentlicht werden.\n\n&nbsp\;\n\nBildnachweis: Robert Haas
CATEGORIES:ON TOUR. Zukunft findet Stadt
LOCATION:HP8\, Hans-Preißinger-Straße 8\, \, München\, Bayern\, 81379 \,
  Deutschland
GEO:48.111448;11.554188
X-APPLE-STRUCTURED-LOCATION;VALUE=URI;X-ADDRESS=Hans-Preißinger-Straße 8\
 , \, München\, Bayern\, 81379 \, Deutschland;X-APPLE-RADIUS=100;X-TITLE=H
 P8:geo:48.111448,11.554188
END:VEVENT
BEGIN:VTIMEZONE
TZID:Europe/Berlin
X-LIC-LOCATION:Europe/Berlin
BEGIN:STANDARD
DTSTART:20251026T020000
TZOFFSETFROM:+0200
TZOFFSETTO:+0100
TZNAME:CET
END:STANDARD
END:VTIMEZONE
END:VCALENDAR