
BEGIN:VCALENDAR
VERSION:2.0
PRODID:-//wp-events-plugin.com//6.6.3//EN
TZID:Europe/Berlin
X-WR-TIMEZONE:Europe/Berlin
BEGIN:VEVENT
UID:0-279@veranstaltungen.muenchen.de
DTSTART;TZID=Europe/Berlin:20231205T180000
DTEND;TZID=Europe/Berlin:20231205T200000
DTSTAMP:20231205T072119Z
URL:https://veranstaltungen.muenchen.de/plan/veranstaltungen/neuperlach-ge
 meinsam-zukunftsfaehig-machen/
SUMMARY:Neuperlach gemeinsam zukunftsfähig machen
DESCRIPTION:\n\n© Patrik Thomas/ NEBourhoods\n\n \n\n„Creating NEBourho
 ods Together“ hat zum Ziel\, das Leben und Arbeiten in der Stadt für al
 le zukunftsfähig\, sozial gerecht und umweltfreundlich zu gestalten. Als 
 eines der sechs europäischen Leuchtturmprojekte der Europäischen Union w
 erden in München-Neuperlach neue Methoden und innovative Lösungen zur Um
 gestaltung bestehender städtischer Räume erprobt. Das soziale Miteinande
 r in Nachbarschaften und ein respektvoller Umgang mit den Ressourcen unser
 es Planeten stehen im Zentrum. Dabei basiert es auf den drei Grundsätzen 
 des Neuen Europäischen Bauhaus (NEB): Ästhetik\, Nachhaltigkeit und Inkl
 usion.\n\n&nbsp\;\n\nGemeinsam mit Akteur*innen aus Gesellschaft\, Verwalt
 ung\, Wissenschaft\, Wirtschaft und Kultur realisiert das Projekt bis 2025
  zehn NEB Actions zur klima- und sozialgerechten Entwicklung des Stadtteil
 s. Vier NEB Actions werden in der Veranstaltung vorgestellt:\n\n&nbsp\;\n\
 n„Public Power - Öffentlicher Raum für alle – auch im Sommer“ unte
 rsucht und erprobt Strategien zur Verschattung städtischer Hitzeinseln f
 ür thermisch gesunde öffentliche Räume.\nReferentin: Dr. Sylvia Pintari
 ts\, LH München und Nicola Borgmann\, Architekturgalerie e.V.\n\n&nbsp\;\
 n\n„Wohnen Weiterbauen“ untersucht\, wie die baulichen Defizite besteh
 ender Wohngebäude sozial\, technisch und wirtschaftlich verbessert werden
  können.\nReferent: Prof. Andreas Hild\, TU München\n\n&nbsp\;\n\n„PEA
 RL“ entwickelt gemeinsam mit jungen Neuperlacher*innen temporäre und da
 uerhafte Orte für Jugendkultur.\nReferentin: Prof. Dr. Andrea Benze\, Hoc
 hschule München\n\n&nbsp\;\n\n„Energiegemeinschaften“ erforscht und e
 rprobt Energiegemeinschaften als Standardmodell für Quartiersenergieverso
 rgung – gemeinsam produzieren\, verbrauchen\, speichern\, teilen und ver
 markten.\nReferentin: Serena Keller\, TU München\n\n&nbsp\;\n\n„Creatin
 g NEBourhoods Together – Neuperlach“ wird vom Referat für Stadtplanun
 g und Bauordnung der Landeshauptstadt München geleitet. Die EU finanziert
  das Projekt mit fünf Millionen Euro\, die Landeshauptstadt München ko-f
 inanziert mit weiteren 0\,6 Millionen.\n\n&nbsp\;\n\nWeitere Informationen
  zum Projekt "Creating NEBourhoods Together" finden Sie unter: www.muenche
 n.de/nebourhoods\n\n&nbsp\;\n\n&nbsp\;\n\nHinweis:\nDer Eintritt ist frei.
  Der PlanTreff ist rollstuhlgerecht zugänglich\, eine barrierefreie Toile
 tte ist vorhanden.\n\n&nbsp\;\n\nAnmeldung: Die Teilnehmerzahl ist begrenz
 t.\n\n&nbsp\;
CATEGORIES:PlanTreff-Programm
LOCATION:PlanTreff\, Blumenstraße 31\, München\, Deutschland
GEO:48.131599;11.570085
X-APPLE-STRUCTURED-LOCATION;VALUE=URI;X-ADDRESS=Blumenstraße 31\, München
 \, Deutschland;X-APPLE-RADIUS=100;X-TITLE=PlanTreff:geo:48.131599,11.57008
 5
END:VEVENT
BEGIN:VTIMEZONE
TZID:Europe/Berlin
X-LIC-LOCATION:Europe/Berlin
BEGIN:STANDARD
DTSTART:20231029T020000
TZOFFSETFROM:+0200
TZOFFSETTO:+0100
TZNAME:CET
END:STANDARD
END:VTIMEZONE
END:VCALENDAR