
BEGIN:VCALENDAR
VERSION:2.0
PRODID:-//wp-events-plugin.com//6.6.3//EN
TZID:Europe/Berlin
X-WR-TIMEZONE:Europe/Berlin
BEGIN:VEVENT
UID:0-135@veranstaltungen.muenchen.de
DTSTART;TZID=Europe/Berlin:20211019T190000
DTEND;TZID=Europe/Berlin:20211019T210000
DTSTAMP:20211012T073431Z
URL:https://veranstaltungen.muenchen.de/plan/veranstaltungen/muenchner-ges
 praech-zur-stadtbaukultur/
SUMMARY:Münchner Gespräch zur Stadtbaukultur
DESCRIPTION:Stadtbaurätin Prof. Dr. (Univ. Florenz) Elisabeth Merk im Gesp
 räch mit Architekt Prof. Manfred Kovatsch\, Mitglied der Kommission für 
 Stadtgestaltung\, und Architekt und Stadtplaner Gert Goergens\, Stadtheima
 tpfleger (2000–2017) und Verfasser der Altstadtleitlinien.\n\n&nbsp\;\n\
 nStadtbaukultur ist weit mehr als die architektonische Gestaltung von Geb
 äuden. Sie betrifft alle Menschen\, stiftet Identität und Lebensqualitä
 t. Aus verschiedenen Blickwinkeln und jenseits des fachlichen Alltags möc
 hte die Gesprächsreihe Themen beleuchten\, die für Münchens Entwicklung
  wichtig sind.\n\n&nbsp\;\n\nHinweis: Der Eintritt ist frei. Für den Besu
 ch der Veranstaltung gilt die 3-G-Regel. Das Tragen einer medizinischen Ma
 ske ist Pflicht.\n\n\n&nbsp\;\n\nAnmeldung: Die Teilnehmerzahl ist begrenz
 t. Eine Anmeldung ist ab dem 12. Oktober möglich.\n\n\nDatenschutz: Bitte
  beachten Sie unsere Hinweise zum Datenschutz (PDF\, 51 KB).
CATEGORIES:Gespräch zur Stadtbaukultur
LOCATION:PlanTreff\, Blumenstraße 31\, München\, Deutschland
GEO:48.131599;11.570085
X-APPLE-STRUCTURED-LOCATION;VALUE=URI;X-ADDRESS=Blumenstraße 31\, München
 \, Deutschland;X-APPLE-RADIUS=100;X-TITLE=PlanTreff:geo:48.131599,11.57008
 5
END:VEVENT
BEGIN:VTIMEZONE
TZID:Europe/Berlin
X-LIC-LOCATION:Europe/Berlin
BEGIN:DAYLIGHT
DTSTART:20210328T030000
TZOFFSETFROM:+0100
TZOFFSETTO:+0200
TZNAME:CEST
END:DAYLIGHT
END:VTIMEZONE
END:VCALENDAR