
BEGIN:VCALENDAR
VERSION:2.0
PRODID:-//wp-events-plugin.com//6.6.3//EN
TZID:Europe/Berlin
X-WR-TIMEZONE:Europe/Berlin
BEGIN:VEVENT
UID:0-331@veranstaltungen.muenchen.de
DTSTART;TZID=Europe/Berlin:20241022T190000
DTEND;TZID=Europe/Berlin:20241022T210000
DTSTAMP:20240912T113035Z
URL:https://veranstaltungen.muenchen.de/plan/veranstaltungen/mit-gruenderi
 nnen-im-gespraech/
SUMMARY:Mit Gründer*innen im Gespräch
DESCRIPTION:[caption id="attachment_1372" align="alignnone" width="855"] ©
  Katharina Wildemann\, mitbauzentrale münchen[/caption]\n\n&nbsp\;\n\nErf
 ahrungen und Austausch zu gemeinschaftlichen Wohnprojekten\n\n&nbsp\;\n\nI
 m Münchner Stadtgebiet und in den angrenzenden Landkreisen wurden zahlrei
 che gemeinschaftsorientierte Wohnprojekte realisiert. Menschen fanden zusa
 mmen und gründeten junge Genossenschaften\, Baugemeinschaften und Mietgru
 ppen. Sie leben Partizipation und Teilhabe im Wohnalltag und engagieren si
 ch für ihr Quartier.\nWir möchten von den Gründer*innen wissen: Was war
  eure Motivation eine Genossenschaft zu gründen? Wo steht ihr heute? Was 
 war oder ist die größte Herausforderung?\n\n&nbsp\;\n\nIm Gespräch:\n\n
  	Felizitas Mussenbrock-Strauß\, Progeno\n 	Michael Port oder Markus Zimm
 erman\, stadtimpuls\n 	Julius Klaffte\, das große kleine Haus\n 	Margaret
 e Hascher-Kück\, Amper WoGe\n 	Charlotte Frössler \, Wabe2\n\n&nbsp\;\n\
 nModeration:\nAnne Krins\, mitbauzentrale münchen\n\n&nbsp\;\n\n&nbsp\;\n
 \nWeitere Informationen  finden Sie unter muenchen.de/plantreff\n\n&nbsp\
 ;\n\n&nbsp\;\n\nHinweis: Der Eintritt ist frei. Der PlanTreff ist rollstuh
 lgerecht zugänglich\, eine barrierefreie Toilette ist vorhanden.\n\n&nbsp
 \;\n\nAnmeldung: Die Teilnehmerzahl ist begrenzt.
CATEGORIES:PlanTreff-Programm
LOCATION:PlanTreff\, Blumenstraße 31\, München\, Deutschland
GEO:48.131599;11.570085
X-APPLE-STRUCTURED-LOCATION;VALUE=URI;X-ADDRESS=Blumenstraße 31\, München
 \, Deutschland;X-APPLE-RADIUS=100;X-TITLE=PlanTreff:geo:48.131599,11.57008
 5
END:VEVENT
BEGIN:VTIMEZONE
TZID:Europe/Berlin
X-LIC-LOCATION:Europe/Berlin
BEGIN:DAYLIGHT
DTSTART:20240331T030000
TZOFFSETFROM:+0100
TZOFFSETTO:+0200
TZNAME:CEST
END:DAYLIGHT
END:VTIMEZONE
END:VCALENDAR