
BEGIN:VCALENDAR
VERSION:2.0
PRODID:-//wp-events-plugin.com//6.6.3//EN
TZID:Europe/Berlin
X-WR-TIMEZONE:Europe/Berlin
BEGIN:VEVENT
UID:0-339@veranstaltungen.muenchen.de
DTSTART;TZID=Europe/Berlin:20241113T180000
DTEND;TZID=Europe/Berlin:20241113T200000
DTSTAMP:20241111T113456Z
URL:https://veranstaltungen.muenchen.de/plan/veranstaltungen/leben-im-geme
 inschaftlichen-wohnprojekt/
SUMMARY:Leben im gemeinschaftlichen Wohnprojekt
DESCRIPTION:[caption id="attachment_1398" align="alignnone" width="855"] ©
  Rudi Hassenstein[/caption]\n\nVerschiedene Wohnprojekte stellen sich vor\
 n\n&nbsp\;\n\nWelche Möglichkeiten gibt es Teil eines gemeinschaftlichen 
 Wohnprojektes zu werden? Und wie lebt es sich darin? Menschen aus verschie
 denen Projekten tauschen sich aus über: ihre Motivation\, die Gemeinsamke
 iten\, den Alltag\, die Arbeitsteilung\, über Konflikte\, deren Lösung u
 nd vieles Mehr.\nNach einer kurzen Einführung über die verschiedenen Mö
 glichkeiten in München Teil eines Wohnprojektes zu werden\, kommen wir mi
 t Wohnenden ins Gespräch.\n\n&nbsp\;\n\nEinführung und Moderation:\n\n&n
 bsp\;\n\n 	Heike Skok\, mitbauzentrale münchen\n 	Anne Krins\, mitbauzent
 rale münchen\n\n&nbsp\;\n\nReferent*innen:\n\n&nbsp\;\n\n 	Alfred Bergmil
 ler\, „anders Leben im Alter“ ALIA\n 	Brigitte Seidl\, Baugemeinschaft
  „kleiner Prinz“\n 	Martina Kallasch\, Progeno eG\n 	Eva Kreling\, Wag
 nis eG\n 	Florian Lintzmeyer\, Wogeno eG\n 	Nicole Manz\, Wogeno eG\n\n&nb
 sp\;\n\n&nbsp\;\n\nHinweis:\nDer Eintritt ist frei. Der PlanTreff ist roll
 stuhlgerecht zugänglich\, eine barrierefreie Toilette ist vorhanden.\n\n&
 nbsp\;\n\nAnmeldung: Die Teilnehmerzahl ist begrenzt.\n\n&nbsp\;
CATEGORIES:PlanTreff-Programm
LOCATION:PlanTreff\, Blumenstraße 31\, München\, Deutschland
GEO:48.131599;11.570085
X-APPLE-STRUCTURED-LOCATION;VALUE=URI;X-ADDRESS=Blumenstraße 31\, München
 \, Deutschland;X-APPLE-RADIUS=100;X-TITLE=PlanTreff:geo:48.131599,11.57008
 5
END:VEVENT
BEGIN:VTIMEZONE
TZID:Europe/Berlin
X-LIC-LOCATION:Europe/Berlin
BEGIN:STANDARD
DTSTART:20241027T020000
TZOFFSETFROM:+0200
TZOFFSETTO:+0100
TZNAME:CET
END:STANDARD
END:VTIMEZONE
END:VCALENDAR