
BEGIN:VCALENDAR
VERSION:2.0
PRODID:-//wp-events-plugin.com//6.6.3//EN
TZID:Europe/Berlin
X-WR-TIMEZONE:Europe/Berlin
BEGIN:VEVENT
UID:0-307@veranstaltungen.muenchen.de
DTSTART;TZID=Europe/Berlin:20240715T180000
DTEND;TZID=Europe/Berlin:20240715T200000
DTSTAMP:20240625T100133Z
URL:https://veranstaltungen.muenchen.de/plan/veranstaltungen/klang-von-fre
 iham/
SUMMARY:Klang von Freiham
DESCRIPTION:[caption id="attachment_1216" align="alignnone" width="855"] ©
  MGS\, Jonas Nefzger[/caption]\n\nEine musikalische Reise in den Münchner
  Westen mit Horst Konietzny und weiteren Künstler*innen\n\n&nbsp\;\n\nDie
  Entwicklung eines Stadtteils als Hörerlebnis - unter diesem Motto hat de
 r Künstler Horst Konietzny 2022 einen ersten Podcast über Freiham erstel
 lt. Die Audioproduktion lässt Hörer*innen am größten Stadtentwicklungs
 projekt in München teilhaben. Zum Start der 2. Staffel inszeniert Horst K
 onietzny mit den Münchner Musiker*innen Klaus Peter Werani und Genevieve 
 Strosser ein musikalisches Hörerlebnis\, das verschiedene Aspekte der Leb
 ensqualität in Freiham beleuchtet.\n\n&nbsp\;\n\nKLANG VON FREIHAM ist al
 s Serie konzipiert und portraitiert die städtebauliche Entwicklung des ne
 uen Stadtteils. Jeder Audio-Clip hat einen inhaltlichen Schwerpunkt und ei
 ne eigene musikalische Signatur. Diese wird jeweils von einer Münchner Mu
 siker*innen-Persönlichkeit geprägt\, die auch zu städtebaulichen Aspekt
 en musikalisch Stellung bezieht.\nZusammen mit Expert*innen der Stadtplanu
 ng sowie den ersten Bewohner*innen von Freiham\, gehen wir in Form eines G
 esprächskonzertes der Frage nach\, wie sich die Intentionen der Planung i
 m echten Leben umsetzen ließen und lassen.\n\n&nbsp\;\n\nBegrüßung: Sta
 dtbaurätin Elisabeth Merk\n\n&nbsp\;\n\n&nbsp\;\n\n&nbsp\;\n\nHinweis: De
 r Eintritt ist frei. Der PlanTreff ist rollstuhlgerecht zugänglich\, eine
  barrierefreie Toilette ist vorhanden.\n\n&nbsp\;\n\nAnmeldung: Die Teilne
 hmerzahl ist begrenzt.
CATEGORIES:PlanTreff-Programm
LOCATION:PlanTreff\, Blumenstraße 31\, München\, Deutschland
GEO:48.131599;11.570085
X-APPLE-STRUCTURED-LOCATION;VALUE=URI;X-ADDRESS=Blumenstraße 31\, München
 \, Deutschland;X-APPLE-RADIUS=100;X-TITLE=PlanTreff:geo:48.131599,11.57008
 5
END:VEVENT
BEGIN:VTIMEZONE
TZID:Europe/Berlin
X-LIC-LOCATION:Europe/Berlin
BEGIN:DAYLIGHT
DTSTART:20240331T030000
TZOFFSETFROM:+0100
TZOFFSETTO:+0200
TZNAME:CEST
END:DAYLIGHT
END:VTIMEZONE
END:VCALENDAR