
BEGIN:VCALENDAR
VERSION:2.0
PRODID:-//wp-events-plugin.com//6.6.3//EN
TZID:Europe/Berlin
X-WR-TIMEZONE:Europe/Berlin
BEGIN:VEVENT
UID:0-245@veranstaltungen.muenchen.de
DTSTART;TZID=Europe/Berlin:20230427T180000
DTEND;TZID=Europe/Berlin:20230427T200000
DTSTAMP:20230420T071348Z
URL:https://veranstaltungen.muenchen.de/plan/veranstaltungen/ideenwettbewe
 rb-europan-e17/
SUMMARY:Ideenwettbewerb Europan E17
DESCRIPTION:\n\nVom Gewerbegebiet zum nachhaltigen\, zukunftsfähigen und r
 esilienten Stadtbaustein: Junge Planer*innen aus ganz Europa sind eingelad
 en\, innovative Konzepte für die Zukunft einer Teilfläche des Münchner 
 Europarks zu entwickeln. Die Landeshauptstadt München\, vertreten durch d
 as Referat für Stadtplanung und Bauordnung\, nimmt in Kooperation mit der
  Grundstückseigentümerin am Ideenwettbewerb Europan 17 „Lebendige Stä
 dte 2“ teil. Ende März wurden die Auslobungen für die fast 50 Standort
 e des Wettbewerbs veröffentlicht\, die durch Ideen aus ganz Europa zu leb
 endigen\, nachhaltigen und durchmischten Stadträumen transformiert werden
  sollen.\n\n&nbsp\;\n\nWelche Impulse erwartet die Stadt München für den
  Europark? Welche Hoffnungen verbindet die Grundstückseigentümerin der T
 eilnahme am Wettbewerb? Was passiert mit den entwickelten Konzepten und Id
 een? Auf diese und andere Fragen wird an diesem Abend eingegangen.\n\n&nbs
 p\;\n\nSeit Ende der 1980er Jahre wird der offene Ideenwettbewerb Europan 
 für junge Architekt*innen und Stadtplaner*innen unter 40 Jahren europawei
 t ausgelobt. Der Wettbewerb findet alle zwei bis drei Jahre unter einem ne
 uen thematischen Schwerpunkt statt.\n\n&nbsp\;\n\n&nbsp\;\n\nReferentinnen
 :\n\n 	Stadtbaurätin Prof. Dr. (Univ. Florenz) Elisabeth Merk\n 	Philine 
 Stadtmüller (Referat für Stadtplanung und Bauordnung)\n 	Corinna Hey (Re
 ferat für Stadtplanung und Bauordnung)\n 	Dr. Thorsten Bischoff (Geschäf
 tsführer der Values Real Estate)\n 	Michael Ehret (Beirat Ehret+Klein)\n\
 n&nbsp\;\n\n&nbsp\;\n\nHinweis:\nDer Eintritt ist frei. Der PlanTreff ist 
 rollstuhlgerecht zugänglich\, eine barrierefreie Toilette ist vorhanden.\
 n\n&nbsp\;\n\nAnmeldung: Die Teilnehmerzahl ist begrenzt.\n\n&nbsp\;
CATEGORIES:PlanTreff-Programm
LOCATION:PlanTreff\, Blumenstraße 31\, München\, Deutschland
GEO:48.131599;11.570085
X-APPLE-STRUCTURED-LOCATION;VALUE=URI;X-ADDRESS=Blumenstraße 31\, München
 \, Deutschland;X-APPLE-RADIUS=100;X-TITLE=PlanTreff:geo:48.131599,11.57008
 5
END:VEVENT
BEGIN:VTIMEZONE
TZID:Europe/Berlin
X-LIC-LOCATION:Europe/Berlin
BEGIN:DAYLIGHT
DTSTART:20230326T030000
TZOFFSETFROM:+0100
TZOFFSETTO:+0200
TZNAME:CEST
END:DAYLIGHT
END:VTIMEZONE
END:VCALENDAR