
BEGIN:VCALENDAR
VERSION:2.0
PRODID:-//wp-events-plugin.com//6.6.3//EN
TZID:Europe/Berlin
X-WR-TIMEZONE:Europe/Berlin
BEGIN:VEVENT
UID:0-336@veranstaltungen.muenchen.de
DTSTART;TZID=Europe/Berlin:20241121T150000
DTEND;TZID=Europe/Berlin:20241121T173000
DTSTAMP:20241114T081914Z
URL:https://veranstaltungen.muenchen.de/plan/veranstaltungen/ideenwerkstat
 t-busrundfahrt-durch-den-muenchner-norden/
SUMMARY:Ideenwerkstatt: Busrundfahrt durch den Münchner Norden
DESCRIPTION:\n\n&nbsp\;\n\nBei der Busrundfahrt mit zwei Bussen durch das P
 lanungsgebiet nehmen Mitglieder der Planungsteams sowie Mitarbeitende der 
 Verwaltung teil.\nDer Zu- und Ausstieg ist im Fat Cat und in Feldmoching m
 öglich.\n\n\nZustiege:\n\n 	­15 Uhr: Fat Cat: Bushaltestelle Am Gasteig\
 , Rosenheimer Straße 5\n 	16 Uhr: Feldmoching: Walter-Sedlmayr-Platz\, Fe
 ldmoching\n\nDanach Rundfahrt durchs Untersuchungsgebiet.\n\n&nbsp\;\n\nEn
 dhaltestellen:\n\n 	17.30 Uhr: Schleißheimer Straße 510\n(um 18 Uhr Begi
 nn der Veranstaltung „Stadtteildialog“ in der Aula der BOS Nelson-Mand
 ela)\n 	17.30 Uhr: Rückfahrt ins Fat Cat\, Bushaltestelle Am Gasteig\, In
 nere Wiener Straße 5\n\n&nbsp\;\n\nDie Ideenwerkstatt: Vom 18. bis 23. No
 vember 2024 findet in München zum ersten Mal das innovative Format einer 
 Ideenwerkstatt statt: Fünf fachübergreifend besetzte Planungsteams werde
 n im Fat Cat im Gasteig Visionen für den Münchner Norden entwerfen – u
 nd alle Interessierten können live dabei sein und mit den Planer*innen in
  den Dialog kommen. Fünf Tage lang wird es offene Werkstätten\, Infomär
 kte\, Austausch und Diskussionen mit Expert*innen aus Praxis und Wissensch
 aft über eine attraktive und nachhaltige Zukunft der Stadt geben.\n\n&nbs
 p\;\n\n&nbsp\;\n\nDas offene Programm findet jeweils nachmittags und abend
 s statt. Für einige wenige Veranstaltungen bitten wir wegen begrenzter Pl
 ätze um Anmeldung.\n\n&nbsp\;\n\nWeitere Informationen  finden Sie unter
  muenchen.de/ideenwerkstatt\n\n&nbsp\;\n\n&nbsp\;\n\nAnmeldung: Es werden 
 zwei Busse fahren. Die Teilnehmerzahl ist begrenzt. Wenn die Plätze ausge
 bucht sind\, schreiben Sie bitte eine E-Mail an plantreff@muenchen.de\, da
 mit wir Sie auf die Warteliste setzen können.
LOCATION:Fat Cat\, Rosenheimer Straße 5\, München\, Deutschland\, 81667\,
  Deutschland
GEO:48.131558;11.590842
X-APPLE-STRUCTURED-LOCATION;VALUE=URI;X-ADDRESS=Rosenheimer Straße 5\, Mü
 nchen\, Deutschland\, 81667\, Deutschland;X-APPLE-RADIUS=100;X-TITLE=Fat C
 at:geo:48.131558,11.590842
END:VEVENT
BEGIN:VTIMEZONE
TZID:Europe/Berlin
X-LIC-LOCATION:Europe/Berlin
BEGIN:STANDARD
DTSTART:20241027T020000
TZOFFSETFROM:+0200
TZOFFSETTO:+0100
TZNAME:CET
END:STANDARD
END:VTIMEZONE
END:VCALENDAR