
BEGIN:VCALENDAR
VERSION:2.0
PRODID:-//wp-events-plugin.com//6.6.3//EN
TZID:Europe/Berlin
X-WR-TIMEZONE:Europe/Berlin
BEGIN:VEVENT
UID:0-257@veranstaltungen.muenchen.de
DTSTART;TZID=Europe/Berlin:20230620T180000
DTEND;TZID=Europe/Berlin:20230620T200000
DTSTAMP:20230523T143336Z
URL:https://veranstaltungen.muenchen.de/plan/veranstaltungen/hochhaeuser-i
 n-muenchen-fortschreibung-der-hochhausstudie/
SUMMARY:Hochhäuser in München – Fortschreibung der Hochhausstudie
DESCRIPTION:\n\n© Gina Bolle\n\n&nbsp\;\n\nDie Fortschreibung der Hochhaus
 studie soll dazu beitragen\, die Haltung der Landeshauptstadt München im 
 Umgang mit Hochhäusern zu klären. Die Studie dient als Leitfaden mit Anf
 orderungen\, die an Hochhausplanungen gestellt werden.\nDas Münchner Bür
 o 03 Architekten hat die Neuauflage der Studie erstellt\, die in den letzt
 en beiden Jahren mit der Stadtgesellschaft und Fachöffentlichkeit diskuti
 ert und weiterentwickelt wurde. Der Stadtrat behandelt in Kürze den über
 arbeiteten Entwurf der Hochhausstudie 2023 zur Entscheidung über ihre Anw
 endung in Planungsverfahren.\nIm Rahmen einer Informationsveranstaltung we
 rden die Inhalte des Entwurfs der Hochhausstudie 2023 vorgestellt.\n\n&nbs
 p\;\n\n&nbsp\;\n\n&nbsp\;\n\nHinweis:\nDer Eintritt ist frei. Der PlanTref
 f ist rollstuhlgerecht zugänglich\, eine barrierefreie Toilette ist vorha
 nden.\n\n&nbsp\;\n\nAnmeldung: Die Teilnehmerzahl ist begrenzt.\n\n&nbsp\;
CATEGORIES:PlanTreff-Programm
LOCATION:PlanTreff\, Blumenstraße 31\, München\, Deutschland
GEO:48.131599;11.570085
X-APPLE-STRUCTURED-LOCATION;VALUE=URI;X-ADDRESS=Blumenstraße 31\, München
 \, Deutschland;X-APPLE-RADIUS=100;X-TITLE=PlanTreff:geo:48.131599,11.57008
 5
END:VEVENT
BEGIN:VTIMEZONE
TZID:Europe/Berlin
X-LIC-LOCATION:Europe/Berlin
BEGIN:DAYLIGHT
DTSTART:20230326T030000
TZOFFSETFROM:+0100
TZOFFSETTO:+0200
TZNAME:CEST
END:DAYLIGHT
END:VTIMEZONE
END:VCALENDAR