
BEGIN:VCALENDAR
VERSION:2.0
PRODID:-//wp-events-plugin.com//6.6.3//EN
TZID:Europe/Berlin
X-WR-TIMEZONE:Europe/Berlin
BEGIN:VEVENT
UID:0-399@veranstaltungen.muenchen.de
DTSTART;TZID=Europe/Berlin:20250705T130000
DTEND;TZID=Europe/Berlin:20250705T140000
DTSTAMP:20250701T143302Z
URL:https://veranstaltungen.muenchen.de/plan/veranstaltungen/fuehrung-stad
 t-hochalm-muenchen/
SUMMARY:13 Uhr: Führung Stadt-Hochalm München
DESCRIPTION:[caption id="attachment_1700" align="alignnone" width="459"] Fo
 to: Urkern\, Ivana Bilz[/caption]\n\n&nbsp\;\n\nMitten im Werksviertel-Mit
 te grasen auf dem Dach von Werk 3 Walliser Schwarznasenschafe. Sie sind Te
 il der Stadthochalm und des Bildungsprojekts "Almschule"\, welches Stadtki
 ndern die Natur näher bringt und ihnen den Wert nachhaltiger Lebensweisen
  vermittelt.\n\nDas Dach ist barrierefrei zugänglich.\n\n&nbsp\;\n\nFühr
 ung: 13 Uhr\n\nTreffpunkt: Atelierstraße 1\, 81671 München\n\nmaximale T
 eilnehmerzahl: 20\n\nAnmeldung: stadtalm@joec-gmbh.de\n\n&nbsp\;\n\n&nbsp\
 ;
LOCATION:Stadt-Hochalm\, Werk 3\, Atelierstraße 10\, München\, Bayern\, 8
 1671\, Deutschland
GEO:48.125192;11.605713
X-APPLE-STRUCTURED-LOCATION;VALUE=URI;X-ADDRESS=Atelierstraße 10\, Münche
 n\, Bayern\, 81671\, Deutschland;X-APPLE-RADIUS=100;X-TITLE=Stadt-Hochalm\
 , Werk 3:geo:48.125192,11.605713
END:VEVENT
BEGIN:VTIMEZONE
TZID:Europe/Berlin
X-LIC-LOCATION:Europe/Berlin
BEGIN:DAYLIGHT
DTSTART:20250330T030000
TZOFFSETFROM:+0100
TZOFFSETTO:+0200
TZNAME:CEST
END:DAYLIGHT
END:VTIMEZONE
END:VCALENDAR